FILENAME: O4811427.NES.48832.tif
QUADRANGLE_NAME: RADNOR
QUADRANT: NE
WEST_LONGITUDE: -114 41 15.00000
EAST_LONGITUDE: -114 37 30.00000
NORTH_LATITUDE: 48 37 30.00000
SOUTH_LATITUDE: 48 33 45.00000
PRODUCTION_DATE: 1994 10 13
RASTER_ORDER: LEFT_RIGHT/TOP_BOTTOM
BAND_ORGANIZATION: SINGLE FILE
BAND_CONTENT: BLACK&WHITE
BAND_CONTENT: UNDEFINED
BAND_CONTENT: UNDEFINED
BITS_PER_PIXEL: 8
SAMPLES_AND_LINES: 5496 7697
HORIZONTAL_DATUM: NAD83
HORIZONTAL_COORDINATE_SYSTEM: UTM
COORDINATE_ZONE: 11
HORIZONTAL_UNITS: METERS
HORIZONTAL_RESOLUTION: 1.00000
SECONDARY_HORIZONTAL_DATUM: NAD27
XY_ORIGIN: 670029.00000 5388793.00000
SECONDARY_XY_ORIGIN: 670106.63000 5388580.10900
NATION: US
STATE: MT
NW_QUAD_CORNER_XY: 670402.44600 5388351.29500
NE_QUAD_CORNER_XY: 675007.59100 5388492.73300
SE_QUAD_CORNERY_XY: 675223.68700 5381546.13900
SW_QUAD_CORNER_XY: 670612.85000 5381404.66200
SECONDARY_NW_QUAD_XY: 670407.87800 5388132.39000
SECONDARY_NE_QUAD_XY: 675013.17000 5388273.83300
SECONDARY_SE_QUAD_XY: 675229.26600 5381327.24600
SECONDARY_SW_QUAD_XY: 670618.28200 5381185.76400
RMSE_XY: 2.30000
IMAGE_SOURCE: BLACK AND WHITE FILM
SOURCE_IMAGE_ID: NAPP 2663 022
SOURCE_IMAGE_DATE: 1991 9 4
SOURCE_DEM_DATE: 1994 10 13
AGENCY: WESTERN MAPPING CENTER (WMC)
PRODUCER: Science Applications International
PRODUCTION_SYSTEM: GIS/MAGIC
COMPRESSION: UNDEFINED
STANDARD_VERSION: 1996 12
METADATA_DATE: 1997 7 15
DATA_FILE_SIZE: 42308208
BYTE_COUNT: 5496
