FILENAME: O4811428.NES.48628.tif
QUADRANGLE_NAME: OLNEY
QUADRANT: NE
WEST_LONGITUDE: -114 33 45.00000
EAST_LONGITUDE: -114 30 0.00000
NORTH_LATITUDE: 48 37 30.00000
SOUTH_LATITUDE: 48 33 45.00000
PRODUCTION_DATE: 1994 10 13
RASTER_ORDER: LEFT_RIGHT/TOP_BOTTOM
BAND_ORGANIZATION: SINGLE FILE
BAND_CONTENT: BLACK&WHITE
BAND_CONTENT: UNDEFINED
BAND_CONTENT: UNDEFINED
BITS_PER_PIXEL: 8
SAMPLES_AND_LINES: 5508 7704
HORIZONTAL_DATUM: NAD83
HORIZONTAL_COORDINATE_SYSTEM: UTM
COORDINATE_ZONE: 11
HORIZONTAL_UNITS: METERS
HORIZONTAL_RESOLUTION: 1.00000
SECONDARY_HORIZONTAL_DATUM: NAD27
XY_ORIGIN: 679239.00000 5389087.00000
SECONDARY_XY_ORIGIN: 679316.63600 5388874.11900
NATION: US
STATE: MT
NW_QUAD_CORNER_XY: 679612.71000 5388637.94700
NE_QUAD_CORNER_XY: 684217.80200 5388786.93700
SE_QUAD_CORNERY_XY: 684445.28200 5381840.42300
SW_QUAD_CORNER_XY: 679834.49800 5381691.39300
SECONDARY_NW_QUAD_XY: 679618.43500 5388419.05200
SECONDARY_NE_QUAD_XY: 684223.67400 5388568.04600
SECONDARY_SE_QUAD_XY: 684451.15500 5381621.53900
SECONDARY_SW_QUAD_XY: 679840.22300 5381472.50400
RMSE_XY: 2.90000
IMAGE_SOURCE: BLACK AND WHITE FILM
SOURCE_IMAGE_ID: NAPP 2640 066
SOURCE_IMAGE_DATE: 1990 7 1
SOURCE_DEM_DATE: 1994 10 13
AGENCY: WESTERN MAPPING CENTER (WMC)
PRODUCER: Science Applications International
PRODUCTION_SYSTEM: GIS/MAGIC
COMPRESSION: UNDEFINED
STANDARD_VERSION: 1996 12
METADATA_DATE: 1997 7 27
DATA_FILE_SIZE: 42439140
BYTE_COUNT: 5508
