FILENAME: O4811429.NWS.48449.tif
QUADRANGLE_NAME: WERNER PEAK
QUADRANT: NW
WEST_LONGITUDE: -114 30 0.00000
EAST_LONGITUDE: -114 26 15.00000
NORTH_LATITUDE: 48 37 30.00000
SOUTH_LATITUDE: 48 33 45.00000
PRODUCTION_DATE: 1994 10 13
RASTER_ORDER: LEFT_RIGHT/TOP_BOTTOM
BAND_ORGANIZATION: SINGLE FILE
BAND_CONTENT: BLACK&WHITE
BAND_CONTENT: UNDEFINED
BAND_CONTENT: UNDEFINED
BITS_PER_PIXEL: 8
SAMPLES_AND_LINES: 5513 7708
HORIZONTAL_DATUM: NAD83
HORIZONTAL_COORDINATE_SYSTEM: UTM
COORDINATE_ZONE: 11
HORIZONTAL_UNITS: METERS
HORIZONTAL_RESOLUTION: 1.00000
SECONDARY_HORIZONTAL_DATUM: NAD27
XY_ORIGIN: 683845.00000 5389240.00000
SECONDARY_XY_ORIGIN: 683922.63700 5389027.12200
NATION: US
STATE: MT
NW_QUAD_CORNER_XY: 684217.80200 5388786.93700
NE_QUAD_CORNER_XY: 688822.86600 5388939.70200
SE_QUAD_CORNERY_XY: 689056.04000 5381993.23000
SW_QUAD_CORNER_XY: 684445.28200 5381840.42300
SECONDARY_NW_QUAD_XY: 684223.67400 5388568.04600
SECONDARY_NE_QUAD_XY: 688828.88500 5388720.81600
SECONDARY_SE_QUAD_XY: 689062.05900 5381774.35100
SECONDARY_SW_QUAD_XY: 684451.15500 5381621.53900
RMSE_XY: 2.00000
IMAGE_SOURCE: BLACK AND WHITE FILM
SOURCE_IMAGE_ID: NAPP 2662 133
SOURCE_IMAGE_DATE: 1991 8 30
SOURCE_DEM_DATE: 1994 10 13
AGENCY: WESTERN MAPPING CENTER (WMC)
PRODUCER: Science Applications International
PRODUCTION_SYSTEM: GIS/MAGIC
COMPRESSION: UNDEFINED
STANDARD_VERSION: 1996 12
METADATA_DATE: 1997 7 15
DATA_FILE_SIZE: 42499717
BYTE_COUNT: 5513
