FILENAME: O4811430.SWS.48311.tif
QUADRANGLE_NAME: SKOOKOLEEL CREEK
QUADRANT: SW
WEST_LONGITUDE: -114 22 30.00000
EAST_LONGITUDE: -114 18 45.00000
NORTH_LATITUDE: 48 33 45.00000
SOUTH_LATITUDE: 48 30 0.00000
PRODUCTION_DATE: 1994 10 13
RASTER_ORDER: LEFT_RIGHT/TOP_BOTTOM
BAND_ORGANIZATION: SINGLE FILE
BAND_CONTENT: BLACK&WHITE
BAND_CONTENT: UNDEFINED
BAND_CONTENT: UNDEFINED
BITS_PER_PIXEL: 8
SAMPLES_AND_LINES: 5529 7716
HORIZONTAL_DATUM: NAD83
HORIZONTAL_COORDINATE_SYSTEM: UTM
COORDINATE_ZONE: 11
HORIZONTAL_UNITS: METERS
HORIZONTAL_RESOLUTION: 1.00000
SECONDARY_HORIZONTAL_DATUM: NAD27
XY_ORIGIN: 693294.00000 5382611.00000
SECONDARY_XY_ORIGIN: 693371.56400 5382398.27000
NATION: US
STATE: MT
NW_QUAD_CORNER_XY: 693666.76900 5382149.81400
NE_QUAD_CORNER_XY: 698277.47000 5382310.17600
SE_QUAD_CORNERY_XY: 698521.79500 5375363.85000
SW_QUAD_CORNER_XY: 693905.40500 5375203.44500
SECONDARY_NW_QUAD_XY: 693672.93500 5381930.94000
SECONDARY_NE_QUAD_XY: 698283.78300 5382091.30700
SECONDARY_SE_QUAD_XY: 698528.10700 5375144.98800
SECONDARY_SW_QUAD_XY: 693911.57100 5374984.57800
RMSE_XY: 4.70000
IMAGE_SOURCE: BLACK AND WHITE FILM
SOURCE_IMAGE_ID: NAPP 2662 095
SOURCE_IMAGE_DATE: 1991 8 30
SOURCE_DEM_DATE: 1994 10 13
AGENCY: WESTERN MAPPING CENTER (WMC)
PRODUCER: Science Applications International
PRODUCTION_SYSTEM: GIS/MAGIC
COMPRESSION: UNDEFINED
STANDARD_VERSION: 1996 12
METADATA_DATE: 1997 7 15
DATA_FILE_SIZE: 42667293
BYTE_COUNT: 5529
