FILENAME: O4811430.SES.48310.tif
QUADRANGLE_NAME: SKOOKOLEEL CREEK
QUADRANT: SE
WEST_LONGITUDE: -114 18 45.00000
EAST_LONGITUDE: -114 15 0.00000
NORTH_LATITUDE: 48 33 45.00000
SOUTH_LATITUDE: 48 30 0.00000
PRODUCTION_DATE: 1994 10 13
RASTER_ORDER: LEFT_RIGHT/TOP_BOTTOM
BAND_ORGANIZATION: SINGLE FILE
BAND_CONTENT: BLACK&WHITE
BAND_CONTENT: UNDEFINED
BAND_CONTENT: UNDEFINED
BITS_PER_PIXEL: 8
SAMPLES_AND_LINES: 5535 7720
HORIZONTAL_DATUM: NAD83
HORIZONTAL_COORDINATE_SYSTEM: UTM
COORDINATE_ZONE: 11
HORIZONTAL_UNITS: METERS
HORIZONTAL_RESOLUTION: 1.00000
SECONDARY_HORIZONTAL_DATUM: NAD27
XY_ORIGIN: 697905.00000 5382775.00000
SECONDARY_XY_ORIGIN: 697982.54500 5382562.29400
NATION: US
STATE: MT
NW_QUAD_CORNER_XY: 698277.47000 5382310.17600
NE_QUAD_CORNER_XY: 702888.14200 5382474.31500
SE_QUAD_CORNERY_XY: 703138.15500 5375528.03300
SW_QUAD_CORNER_XY: 698521.79500 5375363.85000
SECONDARY_NW_QUAD_XY: 698283.78300 5382091.30700
SECONDARY_NE_QUAD_XY: 702894.60200 5382255.45100
SECONDARY_SE_QUAD_XY: 703144.61500 5375309.17700
SECONDARY_SW_QUAD_XY: 698528.10700 5375144.98800
RMSE_XY: 3.80000
IMAGE_SOURCE: BLACK AND WHITE FILM
SOURCE_IMAGE_ID: NAPP 2662 088
SOURCE_IMAGE_DATE: 1991 8 30
SOURCE_DEM_DATE: 1994 10 13
AGENCY: WESTERN MAPPING CENTER (WMC)
PRODUCER: Science Applications International
PRODUCTION_SYSTEM: GIS/MAGIC
COMPRESSION: UNDEFINED
STANDARD_VERSION: 1996 12
METADATA_DATE: 1997 7 15
DATA_FILE_SIZE: 42735735
BYTE_COUNT: 5535
