FILENAME: O4811432.SWS.48062.tif
QUADRANGLE_NAME: MCGEE MEADOW
QUADRANT: SW
WEST_LONGITUDE: -114 7 30.00000
EAST_LONGITUDE: -114 3 45.00000
NORTH_LATITUDE: 48 33 45.00000
SOUTH_LATITUDE: 48 30 0.00000
PRODUCTION_DATE: 1994 11 4
RASTER_ORDER: LEFT_RIGHT/TOP_BOTTOM
BAND_ORGANIZATION: SINGLE FILE
BAND_CONTENT: BLACK&WHITE
BAND_CONTENT: UNDEFINED
BAND_CONTENT: UNDEFINED
BITS_PER_PIXEL: 8
SAMPLES_AND_LINES: 5552 7731
HORIZONTAL_DATUM: NAD83
HORIZONTAL_COORDINATE_SYSTEM: UTM
COORDINATE_ZONE: 11
HORIZONTAL_UNITS: METERS
HORIZONTAL_RESOLUTION: 1.00000
SECONDARY_HORIZONTAL_DATUM: NAD27
XY_ORIGIN: 711737.00000 5383290.00000
SECONDARY_XY_ORIGIN: 711814.39800 5383077.38700
NATION: US
STATE: MT
NW_QUAD_CORNER_XY: 712109.39500 5382813.92900
NE_QUAD_CORNER_XY: 716719.97500 5382989.40400
SE_QUAD_CORNERY_XY: 716987.05800 5376043.26100
SW_QUAD_CORNER_XY: 712370.78800 5375867.73800
SECONDARY_NW_QUAD_XY: 712116.14900 5382595.07600
SECONDARY_NE_QUAD_XY: 716726.87500 5382770.55600
SECONDARY_SE_QUAD_XY: 716993.95800 5375824.42100
SECONDARY_SW_QUAD_XY: 712377.54100 5375648.89300
RMSE_XY: 4.40000
IMAGE_SOURCE: BLACK AND WHITE FILM
SOURCE_IMAGE_ID: NAPP 2662 030
SOURCE_IMAGE_DATE: 1991 8 30
SOURCE_DEM_DATE: 1994 11 4
AGENCY: WESTERN MAPPING CENTER (WMC)
PRODUCER: Science Applications International
PRODUCTION_SYSTEM: GIS/MAGIC
COMPRESSION: UNDEFINED
STANDARD_VERSION: 1996 12
METADATA_DATE: 1997 7 27
DATA_FILE_SIZE: 42928064
BYTE_COUNT: 5552
