FILENAME: O4811432.SES.48061.tif
QUADRANGLE_NAME: MCGEE MEADOW
QUADRANT: SE
WEST_LONGITUDE: -114 3 45.00000
EAST_LONGITUDE: -114 0 0.00000
NORTH_LATITUDE: 48 33 45.00000
SOUTH_LATITUDE: 48 30 0.00000
PRODUCTION_DATE: 1994 11 4
RASTER_ORDER: LEFT_RIGHT/TOP_BOTTOM
BAND_ORGANIZATION: SINGLE FILE
BAND_CONTENT: BLACK&WHITE
BAND_CONTENT: UNDEFINED
BAND_CONTENT: UNDEFINED
BITS_PER_PIXEL: 8
SAMPLES_AND_LINES: 5557 7735
HORIZONTAL_DATUM: NAD83
HORIZONTAL_COORDINATE_SYSTEM: UTM
COORDINATE_ZONE: 11
HORIZONTAL_UNITS: METERS
HORIZONTAL_RESOLUTION: 1.00000
SECONDARY_HORIZONTAL_DATUM: NAD27
XY_ORIGIN: 716348.00000 5383469.00000
SECONDARY_XY_ORIGIN: 716425.32900 5383256.42200
NATION: US
STATE: MT
NW_QUAD_CORNER_XY: 716719.97500 5382989.40400
NE_QUAD_CORNER_XY: 721330.52300 5383168.65800
SE_QUAD_CORNERY_XY: 721603.29700 5376222.56300
SW_QUAD_CORNER_XY: 716987.05800 5376043.26100
SECONDARY_NW_QUAD_XY: 716726.87500 5382770.55600
SECONDARY_NE_QUAD_XY: 721337.57000 5382949.81600
SECONDARY_SE_QUAD_XY: 721610.34400 5376003.72900
SECONDARY_SW_QUAD_XY: 716993.95800 5375824.42100
RMSE_XY: 2.60000
IMAGE_SOURCE: BLACK AND WHITE FILM
SOURCE_IMAGE_ID: NAPP 2661 024
SOURCE_IMAGE_DATE: 1991 8 26
SOURCE_DEM_DATE: 1994 11 4
AGENCY: WESTERN MAPPING CENTER (WMC)
PRODUCER: Science Applications International
PRODUCTION_SYSTEM: GIS/MAGIC
COMPRESSION: UNDEFINED
STANDARD_VERSION: 1996 12
METADATA_DATE: 1997 7 27
DATA_FILE_SIZE: 42988952
BYTE_COUNT: 5557
