FILENAME: O4811432.NES.48059.tif
QUADRANGLE_NAME: MCGEE MEADOW
QUADRANT: NE
WEST_LONGITUDE: -114 3 45.00000
EAST_LONGITUDE: -114 0 0.00000
NORTH_LATITUDE: 48 37 30.00000
SOUTH_LATITUDE: 48 33 45.00000
PRODUCTION_DATE: 1994 11 4
RASTER_ORDER: LEFT_RIGHT/TOP_BOTTOM
BAND_ORGANIZATION: SINGLE FILE
BAND_CONTENT: BLACK&WHITE
BAND_CONTENT: UNDEFINED
BAND_CONTENT: UNDEFINED
BITS_PER_PIXEL: 8
SAMPLES_AND_LINES: 5551 7734
HORIZONTAL_DATUM: NAD83
HORIZONTAL_COORDINATE_SYSTEM: UTM
COORDINATE_ZONE: 11
HORIZONTAL_UNITS: METERS
HORIZONTAL_RESOLUTION: 1.00000
SECONDARY_HORIZONTAL_DATUM: NAD27
XY_ORIGIN: 716081.00000 5390415.00000
SECONDARY_XY_ORIGIN: 716158.36800 5390202.26300
NATION: US
STATE: MT
NW_QUAD_CORNER_XY: 716452.63200 5389935.60300
NE_QUAD_CORNER_XY: 721057.48400 5390114.80800
SE_QUAD_CORNERY_XY: 721330.52300 5383168.65800
SW_QUAD_CORNER_XY: 716719.97500 5382989.40400
SECONDARY_NW_QUAD_XY: 716459.53300 5389716.74900
SECONDARY_NE_QUAD_XY: 721064.53100 5389895.95900
SECONDARY_SE_QUAD_XY: 721337.57000 5382949.81600
SECONDARY_SW_QUAD_XY: 716726.87500 5382770.55600
RMSE_XY: 2.20000
IMAGE_SOURCE: BLACK AND WHITE FILM
SOURCE_IMAGE_ID: NAPP 2661 022
SOURCE_IMAGE_DATE: 1991 8 26
SOURCE_DEM_DATE: 1994 11 4
AGENCY: WESTERN MAPPING CENTER (WMC)
PRODUCER: Science Applications International
PRODUCTION_SYSTEM: GIS/MAGIC
COMPRESSION: UNDEFINED
STANDARD_VERSION: 1996 12
METADATA_DATE: 1997 7 27
DATA_FILE_SIZE: 42936985
BYTE_COUNT: 5551
