FILENAME: O4811434.SWS.49022.tif
QUADRANGLE_NAME: DUNSIRE POINT
QUADRANT: SW
WEST_LONGITUDE: -114 52 30.00000
EAST_LONGITUDE: -114 48 45.00000
NORTH_LATITUDE: 48 26 15.00000
SOUTH_LATITUDE: 48 22 30.00000
PRODUCTION_DATE: 1994 10 13
RASTER_ORDER: LEFT_RIGHT/TOP_BOTTOM
BAND_ORGANIZATION: SINGLE FILE
BAND_CONTENT: BLACK&WHITE
BAND_CONTENT: UNDEFINED
BAND_CONTENT: UNDEFINED
BITS_PER_PIXEL: 8
SAMPLES_AND_LINES: 5497 7686
HORIZONTAL_DATUM: NAD83
HORIZONTAL_COORDINATE_SYSTEM: UTM
COORDINATE_ZONE: 11
HORIZONTAL_UNITS: METERS
HORIZONTAL_RESOLUTION: 1.00000
SECONDARY_HORIZONTAL_DATUM: NAD27
XY_ORIGIN: 656792.00000 5367540.00000
SECONDARY_XY_ORIGIN: 656869.57200 5367327.36500
NATION: US
STATE: MT
NW_QUAD_CORNER_XY: 657166.29000 5367109.59600
NE_QUAD_CORNER_XY: 661788.56400 5367239.81500
SE_QUAD_CORNERY_XY: 661987.00500 5360293.30200
SW_QUAD_CORNER_XY: 657359.05600 5360163.04900
SECONDARY_NW_QUAD_XY: 657171.28100 5366890.70100
SECONDARY_NE_QUAD_XY: 661793.70200 5367020.92500
SECONDARY_SE_QUAD_XY: 661992.14300 5360074.42100
SECONDARY_SW_QUAD_XY: 657364.04700 5359944.16400
RMSE_XY: 3.10000
IMAGE_SOURCE: BLACK AND WHITE FILM
SOURCE_IMAGE_ID: NAPP 2644 058
SOURCE_IMAGE_DATE: 1990 8 6
SOURCE_DEM_DATE: 1994 10 13
AGENCY: WESTERN MAPPING CENTER (WMC)
PRODUCER: Science Applications International
PRODUCTION_SYSTEM: GIS/MAGIC
COMPRESSION: UNDEFINED
STANDARD_VERSION: 1996 12
METADATA_DATE: 1997 7 27
DATA_FILE_SIZE: 42255439
BYTE_COUNT: 5497
