FILENAME: O4811434.SES.49021.tif
QUADRANGLE_NAME: DUNSIRE POINT
QUADRANT: SE
WEST_LONGITUDE: -114 48 45.00000
EAST_LONGITUDE: -114 45 0.00000
NORTH_LATITUDE: 48 26 15.00000
SOUTH_LATITUDE: 48 22 30.00000
PRODUCTION_DATE: 1994 10 13
RASTER_ORDER: LEFT_RIGHT/TOP_BOTTOM
BAND_ORGANIZATION: SINGLE FILE
BAND_CONTENT: BLACK&WHITE
BAND_CONTENT: UNDEFINED
BAND_CONTENT: UNDEFINED
BITS_PER_PIXEL: 8
SAMPLES_AND_LINES: 5501 7689
HORIZONTAL_DATUM: NAD83
HORIZONTAL_COORDINATE_SYSTEM: UTM
COORDINATE_ZONE: 11
HORIZONTAL_UNITS: METERS
HORIZONTAL_RESOLUTION: 1.00000
SECONDARY_HORIZONTAL_DATUM: NAD27
XY_ORIGIN: 661415.00000 5367674.00000
SECONDARY_XY_ORIGIN: 661492.55800 5367461.34400
NATION: US
STATE: MT
NW_QUAD_CORNER_XY: 661788.56400 5367239.81500
NE_QUAD_CORNER_XY: 666410.81600 5367373.81200
SE_QUAD_CORNERY_XY: 666614.93100 5360427.33400
SW_QUAD_CORNER_XY: 661987.00500 5360293.30200
SECONDARY_NW_QUAD_XY: 661793.70200 5367020.92500
SECONDARY_NE_QUAD_XY: 666416.10100 5367154.92500
SECONDARY_SE_QUAD_XY: 666620.21600 5360208.45700
SECONDARY_SW_QUAD_XY: 661992.14300 5360074.42100
RMSE_XY: 3.70000
IMAGE_SOURCE: BLACK AND WHITE FILM
SOURCE_IMAGE_ID: NAPP 2642 061
SOURCE_IMAGE_DATE: 1990 7 17
SOURCE_DEM_DATE: 1994 10 13
AGENCY: WESTERN MAPPING CENTER (WMC)
PRODUCER: Science Applications International
PRODUCTION_SYSTEM: GIS/MAGIC
COMPRESSION: UNDEFINED
STANDARD_VERSION: 1996 12
METADATA_DATE: 1997 7 27
DATA_FILE_SIZE: 42302690
BYTE_COUNT: 5501
