FILENAME: O4811434.NWS.49020.tif
QUADRANGLE_NAME: DUNSIRE POINT
QUADRANT: NW
WEST_LONGITUDE: -114 52 30.00000
EAST_LONGITUDE: -114 48 45.00000
NORTH_LATITUDE: 48 30 0.00000
SOUTH_LATITUDE: 48 26 15.00000
PRODUCTION_DATE: 1994 10 13
RASTER_ORDER: LEFT_RIGHT/TOP_BOTTOM
BAND_ORGANIZATION: SINGLE FILE
BAND_CONTENT: BLACK&WHITE
BAND_CONTENT: UNDEFINED
BAND_CONTENT: UNDEFINED
BITS_PER_PIXEL: 8
SAMPLES_AND_LINES: 5491 7686
HORIZONTAL_DATUM: NAD83
HORIZONTAL_COORDINATE_SYSTEM: UTM
COORDINATE_ZONE: 11
HORIZONTAL_UNITS: METERS
HORIZONTAL_RESOLUTION: 1.00000
SECONDARY_HORIZONTAL_DATUM: NAD27
XY_ORIGIN: 656599.00000 5374487.00000
SECONDARY_XY_ORIGIN: 656676.60700 5374274.29900
NATION: US
STATE: MT
NW_QUAD_CORNER_XY: 656973.33500 5374056.20800
NE_QUAD_CORNER_XY: 661589.93000 5374186.39300
SE_QUAD_CORNERY_XY: 661788.56400 5367239.81500
SW_QUAD_CORNER_XY: 657166.29000 5367109.59600
SECONDARY_NW_QUAD_XY: 656978.32600 5373837.30500
SECONDARY_NE_QUAD_XY: 661595.06800 5373967.49400
SECONDARY_SE_QUAD_XY: 661793.70200 5367020.92500
SECONDARY_SW_QUAD_XY: 657171.28100 5366890.70100
RMSE_XY: 1.50000
IMAGE_SOURCE: BLACK AND WHITE FILM
SOURCE_IMAGE_ID: NAPP 2644 060
SOURCE_IMAGE_DATE: 1990 8 6
SOURCE_DEM_DATE: 1994 10 13
AGENCY: WESTERN MAPPING CENTER (WMC)
PRODUCER: Science Applications International
PRODUCTION_SYSTEM: GIS/MAGIC
COMPRESSION: UNDEFINED
STANDARD_VERSION: 1996 12
METADATA_DATE: 1997 7 27
DATA_FILE_SIZE: 42209317
BYTE_COUNT: 5491
