FILENAME: O4811435.SWS.48839.tif
QUADRANGLE_NAME: JOHNSON PEAK
QUADRANT: SW
WEST_LONGITUDE: -114 45 0.00000
EAST_LONGITUDE: -114 41 15.00000
NORTH_LATITUDE: 48 26 15.00000
SOUTH_LATITUDE: 48 22 30.00000
PRODUCTION_DATE: 1994 10 13
RASTER_ORDER: LEFT_RIGHT/TOP_BOTTOM
BAND_ORGANIZATION: SINGLE FILE
BAND_CONTENT: BLACK&WHITE
BAND_CONTENT: UNDEFINED
BAND_CONTENT: UNDEFINED
BITS_PER_PIXEL: 8
SAMPLES_AND_LINES: 5507 7693
HORIZONTAL_DATUM: NAD83
HORIZONTAL_COORDINATE_SYSTEM: UTM
COORDINATE_ZONE: 11
HORIZONTAL_UNITS: METERS
HORIZONTAL_RESOLUTION: 1.00000
SECONDARY_HORIZONTAL_DATUM: NAD27
XY_ORIGIN: 666037.00000 5367812.00000
SECONDARY_XY_ORIGIN: 666114.53000 5367599.31600
NATION: US
STATE: MT
NW_QUAD_CORNER_XY: 666410.81600 5367373.81200
NE_QUAD_CORNER_XY: 671033.04500 5367511.58600
SE_QUAD_CORNERY_XY: 671242.83500 5360565.14400
SW_QUAD_CORNER_XY: 666614.93100 5360427.33400
SECONDARY_NW_QUAD_XY: 666416.10100 5367154.92500
SECONDARY_NE_QUAD_XY: 671038.47600 5367292.70400
SECONDARY_SE_QUAD_XY: 671248.26600 5360346.27100
SECONDARY_SW_QUAD_XY: 666620.21600 5360208.45700
RMSE_XY: 2.40000
IMAGE_SOURCE: BLACK AND WHITE FILM
SOURCE_IMAGE_ID: NAPP 2648 033
SOURCE_IMAGE_DATE: 1990 8 16
SOURCE_DEM_DATE: 1994 10 13
AGENCY: WESTERN MAPPING CENTER (WMC)
PRODUCER: Science Applications International
PRODUCTION_SYSTEM: GIS/MAGIC
COMPRESSION: UNDEFINED
STANDARD_VERSION: 1996 12
METADATA_DATE: 1997 7 16
DATA_FILE_SIZE: 42370858
BYTE_COUNT: 5507
