FILENAME: O4811435.NES.48836.tif
QUADRANGLE_NAME: JOHNSON PEAK
QUADRANT: NE
WEST_LONGITUDE: -114 41 15.00000
EAST_LONGITUDE: -114 37 30.00000
NORTH_LATITUDE: 48 30 0.00000
SOUTH_LATITUDE: 48 26 15.00000
PRODUCTION_DATE: 1994 10 13
RASTER_ORDER: LEFT_RIGHT/TOP_BOTTOM
BAND_ORGANIZATION: SINGLE FILE
BAND_CONTENT: BLACK&WHITE
BAND_CONTENT: UNDEFINED
BAND_CONTENT: UNDEFINED
BITS_PER_PIXEL: 8
SAMPLES_AND_LINES: 5508 7697
HORIZONTAL_DATUM: NAD83
HORIZONTAL_COORDINATE_SYSTEM: UTM
COORDINATE_ZONE: 11
HORIZONTAL_UNITS: METERS
HORIZONTAL_RESOLUTION: 1.00000
SECONDARY_HORIZONTAL_DATUM: NAD27
XY_ORIGIN: 670449.00000 5374900.00000
SECONDARY_XY_ORIGIN: 670526.55600 5374687.27100
NATION: US
STATE: MT
NW_QUAD_CORNER_XY: 670823.05000 5374458.09200
NE_QUAD_CORNER_XY: 675439.57300 5374599.60700
SE_QUAD_CORNERY_XY: 675655.24900 5367653.13900
SW_QUAD_CORNER_XY: 671033.04500 5367511.58600
SECONDARY_NW_QUAD_XY: 670828.48100 5374239.20200
SECONDARY_NE_QUAD_XY: 675445.15100 5374380.72200
SECONDARY_SE_QUAD_XY: 675660.82700 5367434.26100
SECONDARY_SW_QUAD_XY: 671038.47600 5367292.70400
RMSE_XY: 4.60000
IMAGE_SOURCE: BLACK AND WHITE FILM
SOURCE_IMAGE_ID: NAPP 2663 018
SOURCE_IMAGE_DATE: 1991 9 4
SOURCE_DEM_DATE: 1994 10 13
AGENCY: WESTERN MAPPING CENTER (WMC)
PRODUCER: Science Applications International
PRODUCTION_SYSTEM: GIS/MAGIC
COMPRESSION: UNDEFINED
STANDARD_VERSION: 1996 12
METADATA_DATE: 1997 7 16
DATA_FILE_SIZE: 42400584
BYTE_COUNT: 5508
