FILENAME: O4811436.SWS.48635.tif
QUADRANGLE_NAME: TALLY LAKE
QUADRANT: SW
WEST_LONGITUDE: -114 37 30.00000
EAST_LONGITUDE: -114 33 45.00000
NORTH_LATITUDE: 48 26 15.00000
SOUTH_LATITUDE: 48 22 30.00000
PRODUCTION_DATE: 1995 5 4
RASTER_ORDER: LEFT_RIGHT/TOP_BOTTOM
BAND_ORGANIZATION: SINGLE FILE
BAND_CONTENT: BLACK&WHITE
BAND_CONTENT: UNDEFINED
BAND_CONTENT: UNDEFINED
BITS_PER_PIXEL: 8
SAMPLES_AND_LINES: 5518 7701
HORIZONTAL_DATUM: NAD83
HORIZONTAL_COORDINATE_SYSTEM: UTM
COORDINATE_ZONE: 11
HORIZONTAL_UNITS: METERS
HORIZONTAL_RESOLUTION: 1.00000
SECONDARY_HORIZONTAL_DATUM: NAD27
XY_ORIGIN: 675282.00000 5368099.00000
SECONDARY_XY_ORIGIN: 675359.59500 5367886.36700
NATION: US
STATE: MT
NW_QUAD_CORNER_XY: 675655.24900 5367653.13900
NE_QUAD_CORNER_XY: 680277.42800 5367798.47000
SE_QUAD_CORNERY_XY: 680498.56900 5360852.10100
SW_QUAD_CORNER_XY: 675870.71400 5360706.73300
SECONDARY_NW_QUAD_XY: 675660.82700 5367434.26100
SECONDARY_NE_QUAD_XY: 680283.15300 5367579.59700
SECONDARY_SE_QUAD_XY: 680504.29300 5360633.23800
SECONDARY_SW_QUAD_XY: 675876.29200 5360487.86500
RMSE_XY: 6.40000
IMAGE_SOURCE: BLACK AND WHITE FILM
SOURCE_IMAGE_ID: NAPP 2640 57
SOURCE_IMAGE_DATE: 1990 7 1
SOURCE_IMAGE_ID: NAPP 2640 2640
SOURCE_IMAGE_DATE: 1990 7 1
SOURCE_IMAGE_ID: NAPP 2640 56
SOURCE_IMAGE_DATE: 1990 7 1
SOURCE_IMAGE_ID: NAPP 2640 2640
SOURCE_IMAGE_DATE: 1990 7 1
SOURCE_IMAGE_ID: NAPP 2640 58
SOURCE_IMAGE_DATE: 1990 7 1
SOURCE_DEM_DATE: 1995 5 4
AGENCY: WESTERN MAPPING CENTER (WMC)
PRODUCER: Science Applications International
PRODUCTION_SYSTEM: GIS/MAGIC
COMPRESSION: UNDEFINED
STANDARD_VERSION: 1996 12
METADATA_DATE: 1997 7 25
DATA_FILE_SIZE: 42499636
BYTE_COUNT: 5518
