FILENAME: O4811437.NWS.48453.tif
QUADRANGLE_NAME: BEAVER LAKE
QUADRANT: NW
WEST_LONGITUDE: -114 30 0.00000
EAST_LONGITUDE: -114 26 15.00000
NORTH_LATITUDE: 48 30 0.00000
SOUTH_LATITUDE: 48 26 15.00000
PRODUCTION_DATE: 1994 10 13
RASTER_ORDER: LEFT_RIGHT/TOP_BOTTOM
BAND_ORGANIZATION: SINGLE FILE
BAND_CONTENT: BLACK&WHITE
BAND_CONTENT: UNDEFINED
BAND_CONTENT: UNDEFINED
BITS_PER_PIXEL: 8
SAMPLES_AND_LINES: 5524 7708
HORIZONTAL_DATUM: NAD83
HORIZONTAL_COORDINATE_SYSTEM: UTM
COORDINATE_ZONE: 11
HORIZONTAL_UNITS: METERS
HORIZONTAL_RESOLUTION: 1.00000
SECONDARY_HORIZONTAL_DATUM: NAD27
XY_ORIGIN: 684299.00000 5375347.00000
SECONDARY_XY_ORIGIN: 684376.56300 5375134.31900
NATION: US
STATE: MT
NW_QUAD_CORNER_XY: 684672.54200 5374893.97000
NE_QUAD_CORNER_XY: 689288.98700 5375046.81800
SE_QUAD_CORNERY_XY: 689521.70800 5368100.46800
SW_QUAD_CORNER_XY: 684899.58100 5367947.57900
SECONDARY_NW_QUAD_XY: 684678.41400 5374675.09400
SECONDARY_NE_QUAD_XY: 689295.00600 5374827.94700
SECONDARY_SE_QUAD_XY: 689527.72700 5367881.60400
SECONDARY_SW_QUAD_XY: 684905.45300 5367728.71100
RMSE_XY: 2.10000
IMAGE_SOURCE: BLACK AND WHITE FILM
SOURCE_IMAGE_ID: NAPP 2640 141
SOURCE_IMAGE_DATE: 1990 7 1
SOURCE_DEM_DATE: 1994 10 13
AGENCY: WESTERN MAPPING CENTER (WMC)
PRODUCER: Science Applications International
PRODUCTION_SYSTEM: GIS/MAGIC
COMPRESSION: UNDEFINED
STANDARD_VERSION: 1996 12
METADATA_DATE: 1997 7 16
DATA_FILE_SIZE: 42584516
BYTE_COUNT: 5524
