FILENAME: O4811438.SWS.48315.tif
QUADRANGLE_NAME: WHITEFISH
QUADRANT: SW
WEST_LONGITUDE: -114 22 30.00000
EAST_LONGITUDE: -114 18 45.00000
NORTH_LATITUDE: 48 26 15.00000
SOUTH_LATITUDE: 48 22 30.00000
PRODUCTION_DATE: 1994 10 13
RASTER_ORDER: LEFT_RIGHT/TOP_BOTTOM
BAND_ORGANIZATION: SINGLE FILE
BAND_CONTENT: BLACK&WHITE
BAND_CONTENT: UNDEFINED
BAND_CONTENT: UNDEFINED
BITS_PER_PIXEL: 8
SAMPLES_AND_LINES: 5540 7716
HORIZONTAL_DATUM: NAD83
HORIZONTAL_COORDINATE_SYSTEM: UTM
COORDINATE_ZONE: 11
HORIZONTAL_UNITS: METERS
HORIZONTAL_RESOLUTION: 1.00000
SECONDARY_HORIZONTAL_DATUM: NAD27
XY_ORIGIN: 693771.00000 5368718.00000
SECONDARY_XY_ORIGIN: 693848.62900 5368505.49100
NATION: US
STATE: MT
NW_QUAD_CORNER_XY: 694143.80800 5368257.13500
NE_QUAD_CORNER_XY: 698765.88100 5368417.58300
SE_QUAD_CORNERY_XY: 699009.72900 5361471.37500
SW_QUAD_CORNER_XY: 694381.97900 5361310.88600
SECONDARY_NW_QUAD_XY: 694149.97400 5368038.27700
SECONDARY_NE_QUAD_XY: 698772.19300 5368198.72900
SECONDARY_SE_QUAD_XY: 699016.04100 5361252.53100
SECONDARY_SW_QUAD_XY: 694388.14400 5361092.03700
RMSE_XY: 1.40000
IMAGE_SOURCE: BLACK AND WHITE FILM
SOURCE_IMAGE_ID: NAPP 2640 214
SOURCE_IMAGE_DATE: 1990 7 1
SOURCE_DEM_DATE: 1994 10 13
AGENCY: WESTERN MAPPING CENTER (WMC)
PRODUCER: Science Applications International
PRODUCTION_SYSTEM: GIS/MAGIC
COMPRESSION: UNDEFINED
STANDARD_VERSION: 1996 12
METADATA_DATE: 1997 7 16
DATA_FILE_SIZE: 42752180
BYTE_COUNT: 5540
