FILENAME: O4811439.SES.48190.tif
QUADRANGLE_NAME: COLUMBIA FALLS NORTH
QUADRANT: SE
WEST_LONGITUDE: -114 11 15.00000
EAST_LONGITUDE: -114 7 30.00000
NORTH_LATITUDE: 48 26 15.00000
SOUTH_LATITUDE: 48 22 30.00000
PRODUCTION_DATE: 1994 10 13
RASTER_ORDER: LEFT_RIGHT/TOP_BOTTOM
BAND_ORGANIZATION: SINGLE FILE
BAND_CONTENT: BLACK&WHITE
BAND_CONTENT: UNDEFINED
BAND_CONTENT: UNDEFINED
BITS_PER_PIXEL: 8
SAMPLES_AND_LINES: 5556 7727
HORIZONTAL_DATUM: NAD83
HORIZONTAL_COORDINATE_SYSTEM: UTM
COORDINATE_ZONE: 11
HORIZONTAL_UNITS: METERS
HORIZONTAL_RESOLUTION: 1.00000
SECONDARY_HORIZONTAL_DATUM: NAD27
XY_ORIGIN: 707638.00000 5369222.00000
SECONDARY_XY_ORIGIN: 707715.49000 5369009.61400
NATION: US
STATE: MT
NW_QUAD_CORNER_XY: 708009.94100 5368749.81700
NE_QUAD_CORNER_XY: 712631.92600 5368921.60500
SE_QUAD_CORNERY_XY: 712892.81000 5361975.52800
SW_QUAD_CORNER_XY: 708265.14600 5361803.69500
SECONDARY_NW_QUAD_XY: 708016.54700 5368530.97400
SECONDARY_NE_QUAD_XY: 712638.67900 5368702.76800
SECONDARY_SE_QUAD_XY: 712899.56300 5361756.70000
SECONDARY_SW_QUAD_XY: 708271.75100 5361584.86200
RMSE_XY: 2.80000
IMAGE_SOURCE: BLACK AND WHITE FILM
SOURCE_IMAGE_ID: NAPP 2662 058
SOURCE_IMAGE_DATE: 1991 8 30
SOURCE_DEM_DATE: 1994 10 13
AGENCY: WESTERN MAPPING CENTER (WMC)
PRODUCER: Science Applications International
PRODUCTION_SYSTEM: GIS/MAGIC
COMPRESSION: UNDEFINED
STANDARD_VERSION: 1996 12
METADATA_DATE: 1997 7 16
DATA_FILE_SIZE: 42936768
BYTE_COUNT: 5556
