FILENAME: O4811439.NWS.48189.tif
QUADRANGLE_NAME: COLUMBIA FALLS NORTH
QUADRANT: NW
WEST_LONGITUDE: -114 15 0.00000
EAST_LONGITUDE: -114 11 15.00000
NORTH_LATITUDE: 48 30 0.00000
SOUTH_LATITUDE: 48 26 15.00000
PRODUCTION_DATE: 1994 10 13
RASTER_ORDER: LEFT_RIGHT/TOP_BOTTOM
BAND_ORGANIZATION: SINGLE FILE
BAND_CONTENT: BLACK&WHITE
BAND_CONTENT: UNDEFINED
BAND_CONTENT: UNDEFINED
BITS_PER_PIXEL: 8
SAMPLES_AND_LINES: 5545 7723
HORIZONTAL_DATUM: NAD83
HORIZONTAL_COORDINATE_SYSTEM: UTM
COORDINATE_ZONE: 11
HORIZONTAL_UNITS: METERS
HORIZONTAL_RESOLUTION: 1.00000
SECONDARY_HORIZONTAL_DATUM: NAD27
XY_ORIGIN: 702766.00000 5375996.00000
SECONDARY_XY_ORIGIN: 702843.53000 5375783.44000
NATION: US
STATE: MT
NW_QUAD_CORNER_XY: 703138.15500 5375528.03300
NE_QUAD_CORNER_XY: 707754.48700 5375695.99600
SE_QUAD_CORNERY_XY: 708009.94100 5368749.81700
SW_QUAD_CORNER_XY: 703387.92500 5368581.81000
SECONDARY_NW_QUAD_XY: 703144.61500 5375309.17700
SECONDARY_NE_QUAD_XY: 707761.09300 5375477.14500
SECONDARY_SE_QUAD_XY: 708016.54700 5368530.97400
SECONDARY_SW_QUAD_XY: 703394.38500 5368362.96200
RMSE_XY: 3.00000
IMAGE_SOURCE: BLACK AND WHITE FILM
SOURCE_IMAGE_ID: NAPP 2662 063
SOURCE_IMAGE_DATE: 1991 8 30
SOURCE_DEM_DATE: 1994 10 13
AGENCY: WESTERN MAPPING CENTER (WMC)
PRODUCER: Science Applications International
PRODUCTION_SYSTEM: GIS/MAGIC
COMPRESSION: UNDEFINED
STANDARD_VERSION: 1996 12
METADATA_DATE: 1997 7 16
DATA_FILE_SIZE: 42829580
BYTE_COUNT: 5545
