FILENAME: O4811439.NES.48188.tif
QUADRANGLE_NAME: COLUMBIA FALLS NORTH
QUADRANT: NE
WEST_LONGITUDE: -114 11 15.00000
EAST_LONGITUDE: -114 7 30.00000
NORTH_LATITUDE: 48 30 0.00000
SOUTH_LATITUDE: 48 26 15.00000
PRODUCTION_DATE: 1994 10 13
RASTER_ORDER: LEFT_RIGHT/TOP_BOTTOM
BAND_ORGANIZATION: SINGLE FILE
BAND_CONTENT: BLACK&WHITE
BAND_CONTENT: UNDEFINED
BAND_CONTENT: UNDEFINED
BITS_PER_PIXEL: 8
SAMPLES_AND_LINES: 5551 7727
HORIZONTAL_DATUM: NAD83
HORIZONTAL_COORDINATE_SYSTEM: UTM
COORDINATE_ZONE: 11
HORIZONTAL_UNITS: METERS
HORIZONTAL_RESOLUTION: 1.00000
SECONDARY_HORIZONTAL_DATUM: NAD27
XY_ORIGIN: 707382.00000 5376168.00000
SECONDARY_XY_ORIGIN: 707459.44800 5375955.49100
NATION: US
STATE: MT
NW_QUAD_CORNER_XY: 707754.48700 5375695.99600
NE_QUAD_CORNER_XY: 712370.78800 5375867.73800
SE_QUAD_CORNERY_XY: 712631.92600 5368921.60500
SW_QUAD_CORNER_XY: 708009.94100 5368749.81700
SECONDARY_NW_QUAD_XY: 707761.09300 5375477.14500
SECONDARY_NE_QUAD_XY: 712377.54100 5375648.89300
SECONDARY_SE_QUAD_XY: 712638.67900 5368702.76800
SECONDARY_SW_QUAD_XY: 708016.54700 5368530.97400
RMSE_XY: 3.40000
IMAGE_SOURCE: BLACK AND WHITE FILM
SOURCE_IMAGE_ID: NAPP 2662 056
SOURCE_IMAGE_DATE: 1991 8 30
SOURCE_DEM_DATE: 1994 10 13
AGENCY: WESTERN MAPPING CENTER (WMC)
PRODUCER: Science Applications International
PRODUCTION_SYSTEM: GIS/MAGIC
COMPRESSION: UNDEFINED
STANDARD_VERSION: 1996 12
METADATA_DATE: 1997 7 16
DATA_FILE_SIZE: 42898128
BYTE_COUNT: 5551
