FILENAME: O4811440.SES.48065.tif
QUADRANGLE_NAME: HUNGRY HORSE
QUADRANT: SE
WEST_LONGITUDE: -114 3 45.00000
EAST_LONGITUDE: -114 0 0.00000
NORTH_LATITUDE: 48 26 15.00000
SOUTH_LATITUDE: 48 22 30.00000
PRODUCTION_DATE: 1995 5 4
RASTER_ORDER: LEFT_RIGHT/TOP_BOTTOM
BAND_ORGANIZATION: SINGLE FILE
BAND_CONTENT: BLACK&WHITE
BAND_CONTENT: UNDEFINED
BAND_CONTENT: UNDEFINED
BITS_PER_PIXEL: 8
SAMPLES_AND_LINES: 5568 7735
HORIZONTAL_DATUM: NAD83
HORIZONTAL_COORDINATE_SYSTEM: UTM
COORDINATE_ZONE: 11
HORIZONTAL_UNITS: METERS
HORIZONTAL_RESOLUTION: 1.00000
SECONDARY_HORIZONTAL_DATUM: NAD27
XY_ORIGIN: 716882.00000 5369577.00000
SECONDARY_XY_ORIGIN: 716959.30200 5369364.71000
NATION: US
STATE: MT
NW_QUAD_CORNER_XY: 717253.88200 5369097.17300
NE_QUAD_CORNER_XY: 721875.80600 5369276.52300
SE_QUAD_CORNERY_XY: 722148.05000 5362330.53800
SW_QUAD_CORNER_XY: 717520.44500 5362151.14200
SECONDARY_NW_QUAD_XY: 717260.78200 5368878.34200
SECONDARY_NE_QUAD_XY: 721882.85300 5369057.69700
SECONDARY_SE_QUAD_XY: 722155.09600 5362111.72200
SECONDARY_SW_QUAD_XY: 717527.34500 5361932.32000
RMSE_XY: 2.30000
IMAGE_SOURCE: BLACK AND WHITE FILM
SOURCE_IMAGE_ID: NAPP 2661 28
SOURCE_IMAGE_DATE: 1991 8 26
SOURCE_IMAGE_ID: NAPP 2661 2661
SOURCE_IMAGE_DATE: 1991 8 26
SOURCE_IMAGE_ID: NAPP 2661 27
SOURCE_IMAGE_DATE: 1991 8 26
SOURCE_DEM_DATE: 1995 5 4
AGENCY: WESTERN MAPPING CENTER (WMC)
PRODUCER: Science Applications International
PRODUCTION_SYSTEM: GIS/MAGIC
COMPRESSION: UNDEFINED
STANDARD_VERSION: 1996 12
METADATA_DATE: 1997 7 25
DATA_FILE_SIZE: 43074048
BYTE_COUNT: 5568
