FILENAME: O4811440.NWS.48064.tif
QUADRANGLE_NAME: HUNGRY HORSE
QUADRANT: NW
WEST_LONGITUDE: -114 7 30.00000
EAST_LONGITUDE: -114 3 45.00000
NORTH_LATITUDE: 48 30 0.00000
SOUTH_LATITUDE: 48 26 15.00000
PRODUCTION_DATE: 1994 11 4
RASTER_ORDER: LEFT_RIGHT/TOP_BOTTOM
BAND_ORGANIZATION: SINGLE FILE
BAND_CONTENT: BLACK&WHITE
BAND_CONTENT: UNDEFINED
BAND_CONTENT: UNDEFINED
BITS_PER_PIXEL: 8
SAMPLES_AND_LINES: 5556 7731
HORIZONTAL_DATUM: NAD83
HORIZONTAL_COORDINATE_SYSTEM: UTM
COORDINATE_ZONE: 11
HORIZONTAL_UNITS: METERS
HORIZONTAL_RESOLUTION: 1.00000
SECONDARY_HORIZONTAL_DATUM: NAD27
XY_ORIGIN: 711999.00000 5376344.00000
SECONDARY_XY_ORIGIN: 712076.36700 5376131.54100
NATION: US
STATE: MT
NW_QUAD_CORNER_XY: 712370.78800 5375867.73800
NE_QUAD_CORNER_XY: 716987.05800 5376043.26100
SE_QUAD_CORNERY_XY: 717253.88200 5369097.17300
SW_QUAD_CORNER_XY: 712631.92600 5368921.60500
SECONDARY_NW_QUAD_XY: 712377.54100 5375648.89300
SECONDARY_NE_QUAD_XY: 716993.95800 5375824.42100
SECONDARY_SE_QUAD_XY: 717260.78200 5368878.34200
SECONDARY_SW_QUAD_XY: 712638.67900 5368702.76800
RMSE_XY: 2.80000
IMAGE_SOURCE: BLACK AND WHITE FILM
SOURCE_IMAGE_ID: NAPP 2662 028
SOURCE_IMAGE_DATE: 1991 8 30
SOURCE_DEM_DATE: 1994 11 4
AGENCY: WESTERN MAPPING CENTER (WMC)
PRODUCER: Science Applications International
PRODUCTION_SYSTEM: GIS/MAGIC
COMPRESSION: UNDEFINED
STANDARD_VERSION: 1996 12
METADATA_DATE: 1997 7 27
DATA_FILE_SIZE: 42958992
BYTE_COUNT: 5556
