FILENAME: O4811441.SES.49162.tif
QUADRANGLE_NAME: HORSE HILL
QUADRANT: SE
WEST_LONGITUDE: -114 56 15.00000
EAST_LONGITUDE: -114 52 30.00000
NORTH_LATITUDE: 48 18 45.00000
SOUTH_LATITUDE: 48 15 0.00000
PRODUCTION_DATE: 1994 10 13
RASTER_ORDER: LEFT_RIGHT/TOP_BOTTOM
BAND_ORGANIZATION: SINGLE FILE
BAND_CONTENT: BLACK&WHITE
BAND_CONTENT: UNDEFINED
BAND_CONTENT: UNDEFINED
BITS_PER_PIXEL: 8
SAMPLES_AND_LINES: 5502 7682
HORIZONTAL_DATUM: NAD83
HORIZONTAL_COORDINATE_SYSTEM: UTM
COORDINATE_ZONE: 11
HORIZONTAL_UNITS: METERS
HORIZONTAL_RESOLUTION: 1.00000
SECONDARY_HORIZONTAL_DATUM: NAD27
XY_ORIGIN: 652544.00000 5353517.00000
SECONDARY_XY_ORIGIN: 652621.50600 5353304.52600
NATION: US
STATE: MT
NW_QUAD_CORNER_XY: 652917.99500 5353090.06200
NE_QUAD_CORNER_XY: 657551.63400 5353216.56800
SE_QUAD_CORNERY_XY: 657744.02300 5346270.15300
SW_QUAD_CORNER_XY: 653104.72200 5346143.61500
SECONDARY_NW_QUAD_XY: 652922.83900 5352871.18300
SECONDARY_NE_QUAD_XY: 657556.62500 5352997.69300
SECONDARY_SE_QUAD_XY: 657749.01300 5346051.28900
SECONDARY_SW_QUAD_XY: 653109.56500 5345924.74700
RMSE_XY: 1.40000
IMAGE_SOURCE: BLACK AND WHITE FILM
SOURCE_IMAGE_ID: NAPP 2644 103
SOURCE_IMAGE_DATE: 1990 8 6
SOURCE_DEM_DATE: 1994 10 13
AGENCY: WESTERN MAPPING CENTER (WMC)
PRODUCER: Science Applications International
PRODUCTION_SYSTEM: GIS/MAGIC
COMPRESSION: UNDEFINED
STANDARD_VERSION: 1996 12
METADATA_DATE: 1997 7 16
DATA_FILE_SIZE: 42271866
BYTE_COUNT: 5502
