FILENAME: O4811442.SWS.49026.tif
QUADRANGLE_NAME: SYLVIA LAKE
QUADRANT: SW
WEST_LONGITUDE: -114 52 30.00000
EAST_LONGITUDE: -114 48 45.00000
NORTH_LATITUDE: 48 18 45.00000
SOUTH_LATITUDE: 48 15 0.00000
PRODUCTION_DATE: 1994 10 13
RASTER_ORDER: LEFT_RIGHT/TOP_BOTTOM
BAND_ORGANIZATION: SINGLE FILE
BAND_CONTENT: BLACK&WHITE
BAND_CONTENT: UNDEFINED
BAND_CONTENT: UNDEFINED
BITS_PER_PIXEL: 8
SAMPLES_AND_LINES: 5507 7686
HORIZONTAL_DATUM: NAD83
HORIZONTAL_COORDINATE_SYSTEM: UTM
COORDINATE_ZONE: 11
HORIZONTAL_UNITS: METERS
HORIZONTAL_RESOLUTION: 1.00000
SECONDARY_HORIZONTAL_DATUM: NAD27
XY_ORIGIN: 657178.00000 5353647.00000
SECONDARY_XY_ORIGIN: 657255.50000 5353434.50000
NATION: US
STATE: MT
NW_QUAD_CORNER_XY: 657551.63400 5353216.56800
NE_QUAD_CORNER_XY: 662185.25200 5353346.85400
SE_QUAD_CORNERY_XY: 662383.30400 5346400.47100
SW_QUAD_CORNER_XY: 657744.02300 5346270.15300
SECONDARY_NW_QUAD_XY: 657556.62500 5352997.69300
SECONDARY_NE_QUAD_XY: 662190.38900 5353127.98300
SECONDARY_SE_QUAD_XY: 662388.44100 5346181.61100
SECONDARY_SW_QUAD_XY: 657749.01300 5346051.28900
RMSE_XY: 2.30000
IMAGE_SOURCE: BLACK AND WHITE FILM
SOURCE_IMAGE_ID: NAPP 2644 054
SOURCE_IMAGE_DATE: 1990 8 6
SOURCE_DEM_DATE: 1994 10 13
AGENCY: WESTERN MAPPING CENTER (WMC)
PRODUCER: Science Applications International
PRODUCTION_SYSTEM: GIS/MAGIC
COMPRESSION: UNDEFINED
STANDARD_VERSION: 1996 12
METADATA_DATE: 1997 7 16
DATA_FILE_SIZE: 42332309
BYTE_COUNT: 5507
