FILENAME: O4811442.SES.49025.tif
QUADRANGLE_NAME: SYLVIA LAKE
QUADRANT: SE
WEST_LONGITUDE: -114 48 45.00000
EAST_LONGITUDE: -114 45 0.00000
NORTH_LATITUDE: 48 18 45.00000
SOUTH_LATITUDE: 48 15 0.00000
PRODUCTION_DATE: 1994 10 13
RASTER_ORDER: LEFT_RIGHT/TOP_BOTTOM
BAND_ORGANIZATION: SINGLE FILE
BAND_CONTENT: BLACK&WHITE
BAND_CONTENT: UNDEFINED
BAND_CONTENT: UNDEFINED
BITS_PER_PIXEL: 8
SAMPLES_AND_LINES: 5513 7689
HORIZONTAL_DATUM: NAD83
HORIZONTAL_COORDINATE_SYSTEM: UTM
COORDINATE_ZONE: 11
HORIZONTAL_UNITS: METERS
HORIZONTAL_RESOLUTION: 1.00000
SECONDARY_HORIZONTAL_DATUM: NAD27
XY_ORIGIN: 661811.00000 5353781.00000
SECONDARY_XY_ORIGIN: 661888.49400 5353568.47500
NATION: US
STATE: MT
NW_QUAD_CORNER_XY: 662185.25200 5353346.85400
NE_QUAD_CORNER_XY: 666818.84700 5353480.92000
SE_QUAD_CORNERY_XY: 667022.56200 5346534.57000
SW_QUAD_CORNER_XY: 662383.30400 5346400.47100
SECONDARY_NW_QUAD_XY: 662190.38900 5353127.98300
SECONDARY_NE_QUAD_XY: 666824.13100 5353262.05300
SECONDARY_SE_QUAD_XY: 667027.84600 5346315.71400
SECONDARY_SW_QUAD_XY: 662388.44100 5346181.61100
RMSE_XY: 2.30000
IMAGE_SOURCE: BLACK AND WHITE FILM
SOURCE_IMAGE_ID: NAPP 2642 065
SOURCE_IMAGE_DATE: 1990 7 17
SOURCE_DEM_DATE: 1994 10 13
AGENCY: WESTERN MAPPING CENTER (WMC)
PRODUCER: Science Applications International
PRODUCTION_SYSTEM: GIS/MAGIC
COMPRESSION: UNDEFINED
STANDARD_VERSION: 1996 12
METADATA_DATE: 1997 7 16
DATA_FILE_SIZE: 42394970
BYTE_COUNT: 5513
