FILENAME: O4811442.NES.49023.tif
QUADRANGLE_NAME: SYLVIA LAKE
QUADRANT: NE
WEST_LONGITUDE: -114 48 45.00000
EAST_LONGITUDE: -114 45 0.00000
NORTH_LATITUDE: 48 22 30.00000
SOUTH_LATITUDE: 48 18 45.00000
PRODUCTION_DATE: 1994 10 13
RASTER_ORDER: LEFT_RIGHT/TOP_BOTTOM
BAND_ORGANIZATION: SINGLE FILE
BAND_CONTENT: BLACK&WHITE
BAND_CONTENT: UNDEFINED
BAND_CONTENT: UNDEFINED
BITS_PER_PIXEL: 8
SAMPLES_AND_LINES: 5507 7690
HORIZONTAL_DATUM: NAD83
HORIZONTAL_COORDINATE_SYSTEM: UTM
COORDINATE_ZONE: 11
HORIZONTAL_UNITS: METERS
HORIZONTAL_RESOLUTION: 1.00000
SECONDARY_HORIZONTAL_DATUM: NAD27
XY_ORIGIN: 661613.00000 5360728.00000
SECONDARY_XY_ORIGIN: 661690.52600 5360515.40900
NATION: US
STATE: MT
NW_QUAD_CORNER_XY: 661987.00500 5360293.30200
NE_QUAD_CORNER_XY: 666614.93100 5360427.33400
SE_QUAD_CORNERY_XY: 666818.84700 5353480.92000
SW_QUAD_CORNER_XY: 662185.25200 5353346.85400
SECONDARY_NW_QUAD_XY: 661992.14300 5360074.42100
SECONDARY_NE_QUAD_XY: 666620.21600 5360208.45700
SECONDARY_SE_QUAD_XY: 666824.13100 5353262.05300
SECONDARY_SW_QUAD_XY: 662190.38900 5353127.98300
RMSE_XY: 2.50000
IMAGE_SOURCE: BLACK AND WHITE FILM
SOURCE_IMAGE_ID: NAPP 2642 063
SOURCE_IMAGE_DATE: 1990 7 17
SOURCE_DEM_DATE: 1994 10 13
AGENCY: WESTERN MAPPING CENTER (WMC)
PRODUCER: Science Applications International
PRODUCTION_SYSTEM: GIS/MAGIC
COMPRESSION: UNDEFINED
STANDARD_VERSION: 1996 12
METADATA_DATE: 1997 7 16
DATA_FILE_SIZE: 42354337
BYTE_COUNT: 5507
