FILENAME: O4811443.NWS.48841.tif
QUADRANGLE_NAME: ASHLEY MOUNTAIN
QUADRANT: NW
WEST_LONGITUDE: -114 45 0.00000
EAST_LONGITUDE: -114 41 15.00000
NORTH_LATITUDE: 48 22 30.00000
SOUTH_LATITUDE: 48 18 45.00000
PRODUCTION_DATE: 1994 10 13
RASTER_ORDER: LEFT_RIGHT/TOP_BOTTOM
BAND_ORGANIZATION: SINGLE FILE
BAND_CONTENT: BLACK&WHITE
BAND_CONTENT: UNDEFINED
BAND_CONTENT: UNDEFINED
BITS_PER_PIXEL: 8
SAMPLES_AND_LINES: 5513 7694
HORIZONTAL_DATUM: NAD83
HORIZONTAL_COORDINATE_SYSTEM: UTM
COORDINATE_ZONE: 11
HORIZONTAL_UNITS: METERS
HORIZONTAL_RESOLUTION: 1.00000
SECONDARY_HORIZONTAL_DATUM: NAD27
XY_ORIGIN: 666241.00000 5360866.00000
SECONDARY_XY_ORIGIN: 666318.50100 5360653.37800
NATION: US
STATE: MT
NW_QUAD_CORNER_XY: 666614.93100 5360427.33400
NE_QUAD_CORNER_XY: 671242.83500 5360565.14400
SE_QUAD_CORNERY_XY: 671452.41900 5353618.76500
SW_QUAD_CORNER_XY: 666818.84700 5353480.92000
SECONDARY_NW_QUAD_XY: 666620.21600 5360208.45700
SECONDARY_NE_QUAD_XY: 671248.26600 5360346.27100
SECONDARY_SE_QUAD_XY: 671457.85000 5353399.90200
SECONDARY_SW_QUAD_XY: 666824.13100 5353262.05300
RMSE_XY: 4.30000
IMAGE_SOURCE: BLACK AND WHITE FILM
SOURCE_IMAGE_ID: NAPP 2648 031
SOURCE_IMAGE_DATE: 1990 8 16
SOURCE_DEM_DATE: 1994 10 13
AGENCY: WESTERN MAPPING CENTER (WMC)
PRODUCER: Science Applications International
PRODUCTION_SYSTEM: GIS/MAGIC
COMPRESSION: UNDEFINED
STANDARD_VERSION: 1996 12
METADATA_DATE: 1997 7 15
DATA_FILE_SIZE: 42422535
BYTE_COUNT: 5513
