FILENAME: O4811443.NES.48840.tif
QUADRANGLE_NAME: ASHLEY MOUNTAIN
QUADRANT: NE
WEST_LONGITUDE: -114 41 15.00000
EAST_LONGITUDE: -114 37 30.00000
NORTH_LATITUDE: 48 22 30.00000
SOUTH_LATITUDE: 48 18 45.00000
PRODUCTION_DATE: 1994 10 13
RASTER_ORDER: LEFT_RIGHT/TOP_BOTTOM
BAND_ORGANIZATION: SINGLE FILE
BAND_CONTENT: BLACK&WHITE
BAND_CONTENT: UNDEFINED
BAND_CONTENT: UNDEFINED
BITS_PER_PIXEL: 8
SAMPLES_AND_LINES: 5518 7697
HORIZONTAL_DATUM: NAD83
HORIZONTAL_COORDINATE_SYSTEM: UTM
COORDINATE_ZONE: 11
HORIZONTAL_UNITS: METERS
HORIZONTAL_RESOLUTION: 1.00000
SECONDARY_HORIZONTAL_DATUM: NAD27
XY_ORIGIN: 670869.00000 5361007.00000
SECONDARY_XY_ORIGIN: 670946.56900 5360794.41300
NATION: US
STATE: MT
NW_QUAD_CORNER_XY: 671242.83500 5360565.14400
NE_QUAD_CORNER_XY: 675870.71400 5360706.73300
SE_QUAD_CORNERY_XY: 676085.96800 5353760.39000
SW_QUAD_CORNER_XY: 671452.41900 5353618.76500
SECONDARY_NW_QUAD_XY: 671248.26600 5360346.27100
SECONDARY_NE_QUAD_XY: 675876.29200 5360487.86500
SECONDARY_SE_QUAD_XY: 676091.54600 5353541.53200
SECONDARY_SW_QUAD_XY: 671457.85000 5353399.90200
RMSE_XY: 7.50000
IMAGE_SOURCE: BLACK AND WHITE FILM
SOURCE_IMAGE_ID: NAPP 2663 014
SOURCE_IMAGE_DATE: 1991 9 4
SOURCE_DEM_DATE: 1994 10 13
AGENCY: WESTERN MAPPING CENTER (WMC)
PRODUCER: Science Applications International
PRODUCTION_SYSTEM: GIS/MAGIC
COMPRESSION: UNDEFINED
STANDARD_VERSION: 1996 12
METADATA_DATE: 1997 7 15
DATA_FILE_SIZE: 42477564
BYTE_COUNT: 5518
