FILENAME: O4811444.SWS.48639.tif
QUADRANGLE_NAME: LOST CREEK DIVIDE
QUADRANT: SW
WEST_LONGITUDE: -114 37 30.00000
EAST_LONGITUDE: -114 33 45.00000
NORTH_LATITUDE: 48 18 45.00000
SOUTH_LATITUDE: 48 15 0.00000
PRODUCTION_DATE: 1995 5 2
RASTER_ORDER: LEFT_RIGHT/TOP_BOTTOM
BAND_ORGANIZATION: SINGLE FILE
BAND_CONTENT: BLACK&WHITE
BAND_CONTENT: UNDEFINED
BAND_CONTENT: UNDEFINED
BITS_PER_PIXEL: 8
SAMPLES_AND_LINES: 5530 7701
HORIZONTAL_DATUM: NAD83
HORIZONTAL_COORDINATE_SYSTEM: UTM
COORDINATE_ZONE: 11
HORIZONTAL_UNITS: METERS
HORIZONTAL_RESOLUTION: 1.00000
SECONDARY_HORIZONTAL_DATUM: NAD27
XY_ORIGIN: 675712.00000 5354206.00000
SECONDARY_XY_ORIGIN: 675789.67800 5353993.53000
NATION: US
STATE: MT
NW_QUAD_CORNER_XY: 676085.96800 5353760.39000
NE_QUAD_CORNER_XY: 680719.49300 5353905.79500
SE_QUAD_CORNERY_XY: 680940.20200 5346959.55200
SW_QUAD_CORNER_XY: 676301.01200 5346814.11000
SECONDARY_NW_QUAD_XY: 676091.54600 5353541.53200
SECONDARY_NE_QUAD_XY: 680725.21800 5353686.94200
SECONDARY_SE_QUAD_XY: 680945.92600 5346740.70900
SECONDARY_SW_QUAD_XY: 676306.58900 5346595.26300
RMSE_XY: 4.10000
IMAGE_SOURCE: BLACK AND WHITE FILM
SOURCE_IMAGE_ID: NAPP 2640 53
SOURCE_IMAGE_DATE: 1990 7 1
SOURCE_IMAGE_ID: NAPP 2640 2640
SOURCE_IMAGE_DATE: 1990 7 1
SOURCE_IMAGE_ID: NAPP 2640 52
SOURCE_IMAGE_DATE: 1990 7 1
SOURCE_DEM_DATE: 1995 5 2
AGENCY: WESTERN MAPPING CENTER (WMC)
PRODUCER: Science Applications International
PRODUCTION_SYSTEM: GIS/MAGIC
COMPRESSION: UNDEFINED
STANDARD_VERSION: 1996 12
METADATA_DATE: 1997 7 25
DATA_FILE_SIZE: 42592060
BYTE_COUNT: 5530
