FILENAME: O4811444.SES.48638.tif
QUADRANGLE_NAME: LOST CREEK DIVIDE
QUADRANT: SE
WEST_LONGITUDE: -114 33 45.00000
EAST_LONGITUDE: -114 30 0.00000
NORTH_LATITUDE: 48 18 45.00000
SOUTH_LATITUDE: 48 15 0.00000
PRODUCTION_DATE: 1994 10 13
RASTER_ORDER: LEFT_RIGHT/TOP_BOTTOM
BAND_ORGANIZATION: SINGLE FILE
BAND_CONTENT: BLACK&WHITE
BAND_CONTENT: UNDEFINED
BAND_CONTENT: UNDEFINED
BITS_PER_PIXEL: 8
SAMPLES_AND_LINES: 5535 7704
HORIZONTAL_DATUM: NAD83
HORIZONTAL_COORDINATE_SYSTEM: UTM
COORDINATE_ZONE: 11
HORIZONTAL_UNITS: METERS
HORIZONTAL_RESOLUTION: 1.00000
SECONDARY_HORIZONTAL_DATUM: NAD27
XY_ORIGIN: 680346.00000 5354355.00000
SECONDARY_XY_ORIGIN: 680423.78200 5354142.57500
NATION: US
STATE: MT
NW_QUAD_CORNER_XY: 680719.49300 5353905.79500
NE_QUAD_CORNER_XY: 685352.99400 5354054.98100
SE_QUAD_CORNERY_XY: 685579.36700 5347108.77500
SW_QUAD_CORNER_XY: 680940.20200 5346959.55200
SECONDARY_NW_QUAD_XY: 680725.21800 5353686.94200
SECONDARY_NE_QUAD_XY: 685358.86500 5353836.13300
SECONDARY_SE_QUAD_XY: 685585.23800 5346889.93700
SECONDARY_SW_QUAD_XY: 680945.92600 5346740.70900
RMSE_XY: 4.70000
IMAGE_SOURCE: BLACK AND WHITE FILM
SOURCE_IMAGE_ID: NAPP 2640 076
SOURCE_IMAGE_DATE: 1990 7 1
SOURCE_DEM_DATE: 1994 10 13
AGENCY: WESTERN MAPPING CENTER (WMC)
PRODUCER: Science Applications International
PRODUCTION_SYSTEM: GIS/MAGIC
COMPRESSION: UNDEFINED
STANDARD_VERSION: 1996 12
METADATA_DATE: 1997 7 15
DATA_FILE_SIZE: 42647175
BYTE_COUNT: 5535
