FILENAME: O4811444.NWS.48637.tif
QUADRANGLE_NAME: LOST CREEK DIVIDE
QUADRANT: NW
WEST_LONGITUDE: -114 37 30.00000
EAST_LONGITUDE: -114 33 45.00000
NORTH_LATITUDE: 48 22 30.00000
SOUTH_LATITUDE: 48 18 45.00000
PRODUCTION_DATE: 1994 10 13
RASTER_ORDER: LEFT_RIGHT/TOP_BOTTOM
BAND_ORGANIZATION: SINGLE FILE
BAND_CONTENT: BLACK&WHITE
BAND_CONTENT: UNDEFINED
BAND_CONTENT: UNDEFINED
BITS_PER_PIXEL: 8
SAMPLES_AND_LINES: 5524 7702
HORIZONTAL_DATUM: NAD83
HORIZONTAL_COORDINATE_SYSTEM: UTM
COORDINATE_ZONE: 11
HORIZONTAL_UNITS: METERS
HORIZONTAL_RESOLUTION: 1.00000
SECONDARY_HORIZONTAL_DATUM: NAD27
XY_ORIGIN: 675497.00000 5361153.00000
SECONDARY_XY_ORIGIN: 675574.63700 5360940.44800
NATION: US
STATE: MT
NW_QUAD_CORNER_XY: 675870.71400 5360706.73300
NE_QUAD_CORNER_XY: 680498.56900 5360852.10100
SE_QUAD_CORNERY_XY: 680719.49300 5353905.79500
SW_QUAD_CORNER_XY: 676085.96800 5353760.39000
SECONDARY_NW_QUAD_XY: 675876.29200 5360487.86500
SECONDARY_NE_QUAD_XY: 680504.29300 5360633.23800
SECONDARY_SE_QUAD_XY: 680725.21800 5353686.94200
SECONDARY_SW_QUAD_XY: 676091.54600 5353541.53200
RMSE_XY: 7.40000
IMAGE_SOURCE: BLACK AND WHITE FILM
SOURCE_IMAGE_ID: NAPP 2640 055
SOURCE_IMAGE_DATE: 1990 7 1
SOURCE_DEM_DATE: 1994 10 13
AGENCY: WESTERN MAPPING CENTER (WMC)
PRODUCER: Science Applications International
PRODUCTION_SYSTEM: GIS/MAGIC
COMPRESSION: UNDEFINED
STANDARD_VERSION: 1996 12
METADATA_DATE: 1997 7 15
DATA_FILE_SIZE: 42551372
BYTE_COUNT: 5524
