FILENAME: O4811445.SWS.48459.tif
QUADRANGLE_NAME: RHODES
QUADRANT: SW
WEST_LONGITUDE: -114 30 0.00000
EAST_LONGITUDE: -114 26 15.00000
NORTH_LATITUDE: 48 18 45.00000
SOUTH_LATITUDE: 48 15 0.00000
PRODUCTION_DATE: 1994 10 6
RASTER_ORDER: LEFT_RIGHT/TOP_BOTTOM
BAND_ORGANIZATION: SINGLE FILE
BAND_CONTENT: BLACK&WHITE
BAND_CONTENT: UNDEFINED
BAND_CONTENT: UNDEFINED
BITS_PER_PIXEL: 8
SAMPLES_AND_LINES: 5541 7708
HORIZONTAL_DATUM: NAD83
HORIZONTAL_COORDINATE_SYSTEM: UTM
COORDINATE_ZONE: 11
HORIZONTAL_UNITS: METERS
HORIZONTAL_RESOLUTION: 1.00000
SECONDARY_HORIZONTAL_DATUM: NAD27
XY_ORIGIN: 684979.00000 5354508.00000
SECONDARY_XY_ORIGIN: 685056.91200 5354295.62000
NATION: US
STATE: MT
NW_QUAD_CORNER_XY: 685352.99400 5354054.98100
NE_QUAD_CORNER_XY: 689986.46900 5354207.94800
SE_QUAD_CORNERY_XY: 690218.50700 5347261.78000
SW_QUAD_CORNER_XY: 685579.36700 5347108.77500
SECONDARY_NW_QUAD_XY: 685358.86500 5353836.13300
SECONDARY_NE_QUAD_XY: 689992.48700 5353989.10500
SECONDARY_SE_QUAD_XY: 690224.52500 5347042.94700
SECONDARY_SW_QUAD_XY: 685585.23800 5346889.93700
RMSE_XY: 2.00000
IMAGE_SOURCE: BLACK AND WHITE FILM
SOURCE_IMAGE_ID: NAPP 2640 135
SOURCE_IMAGE_DATE: 1990 7 1
SOURCE_DEM_DATE: 1994 10 6
AGENCY: WESTERN MAPPING CENTER (WMC)
PRODUCER: Science Applications International
PRODUCTION_SYSTEM: GIS/MAGIC
COMPRESSION: UNDEFINED
STANDARD_VERSION: 1996 12
METADATA_DATE: 1997 7 16
DATA_FILE_SIZE: 42715569
BYTE_COUNT: 5541
