FILENAME: O4811445.SES.48458.tif
QUADRANGLE_NAME: RHODES
QUADRANT: SE
WEST_LONGITUDE: -114 26 15.00000
EAST_LONGITUDE: -114 22 30.00000
NORTH_LATITUDE: 48 18 45.00000
SOUTH_LATITUDE: 48 15 0.00000
PRODUCTION_DATE: 1994 10 6
RASTER_ORDER: LEFT_RIGHT/TOP_BOTTOM
BAND_ORGANIZATION: SINGLE FILE
BAND_CONTENT: BLACK&WHITE
BAND_CONTENT: UNDEFINED
BAND_CONTENT: UNDEFINED
BITS_PER_PIXEL: 8
SAMPLES_AND_LINES: 5546 7712
HORIZONTAL_DATUM: NAD83
HORIZONTAL_COORDINATE_SYSTEM: UTM
COORDINATE_ZONE: 11
HORIZONTAL_UNITS: METERS
HORIZONTAL_RESOLUTION: 1.00000
SECONDARY_HORIZONTAL_DATUM: NAD27
XY_ORIGIN: 689613.00000 5354665.00000
SECONDARY_XY_ORIGIN: 689690.85600 5354452.66900
NATION: US
STATE: MT
NW_QUAD_CORNER_XY: 689986.46900 5354207.94800
NE_QUAD_CORNER_XY: 694619.91700 5354364.69700
SE_QUAD_CORNERY_XY: 694857.62200 5347418.56700
SW_QUAD_CORNER_XY: 690218.50700 5347261.78000
SECONDARY_NW_QUAD_XY: 689992.48700 5353989.10500
SECONDARY_NE_QUAD_XY: 694626.08200 5354145.85800
SECONDARY_SE_QUAD_XY: 694863.78700 5347199.73900
SECONDARY_SW_QUAD_XY: 690224.52500 5347042.94700
RMSE_XY: 1.90000
IMAGE_SOURCE: BLACK AND WHITE FILM
SOURCE_IMAGE_ID: NAPP 2640 150
SOURCE_IMAGE_DATE: 1990 7 1
SOURCE_DEM_DATE: 1994 10 6
AGENCY: WESTERN MAPPING CENTER (WMC)
PRODUCER: Science Applications International
PRODUCTION_SYSTEM: GIS/MAGIC
COMPRESSION: UNDEFINED
STANDARD_VERSION: 1996 12
METADATA_DATE: 1997 7 16
DATA_FILE_SIZE: 42776298
BYTE_COUNT: 5546
