FILENAME: O4811445.NWS.48457.tif
QUADRANGLE_NAME: RHODES
QUADRANT: NW
WEST_LONGITUDE: -114 30 0.00000
EAST_LONGITUDE: -114 26 15.00000
NORTH_LATITUDE: 48 22 30.00000
SOUTH_LATITUDE: 48 18 45.00000
PRODUCTION_DATE: 1994 10 6
RASTER_ORDER: LEFT_RIGHT/TOP_BOTTOM
BAND_ORGANIZATION: SINGLE FILE
BAND_CONTENT: BLACK&WHITE
BAND_CONTENT: UNDEFINED
BAND_CONTENT: UNDEFINED
BITS_PER_PIXEL: 8
SAMPLES_AND_LINES: 5535 7709
HORIZONTAL_DATUM: NAD83
HORIZONTAL_COORDINATE_SYSTEM: UTM
COORDINATE_ZONE: 11
HORIZONTAL_UNITS: METERS
HORIZONTAL_RESOLUTION: 1.00000
SECONDARY_HORIZONTAL_DATUM: NAD27
XY_ORIGIN: 684753.00000 5361455.00000
SECONDARY_XY_ORIGIN: 684830.79500 5361242.51900
NATION: US
STATE: MT
NW_QUAD_CORNER_XY: 685126.39800 5361001.25000
NE_QUAD_CORNER_XY: 689754.20200 5361154.17800
SE_QUAD_CORNERY_XY: 689986.46900 5354207.94800
SW_QUAD_CORNER_XY: 685352.99400 5354054.98100
SECONDARY_NW_QUAD_XY: 685132.27000 5360782.39100
SECONDARY_NE_QUAD_XY: 689760.22000 5360935.32400
SECONDARY_SE_QUAD_XY: 689992.48700 5353989.10500
SECONDARY_SW_QUAD_XY: 685358.86500 5353836.13300
RMSE_XY: 1.30000
IMAGE_SOURCE: BLACK AND WHITE FILM
SOURCE_IMAGE_ID: NAPP 2640 137
SOURCE_IMAGE_DATE: 1990 7 1
SOURCE_DEM_DATE: 1994 10 6
AGENCY: WESTERN MAPPING CENTER (WMC)
PRODUCER: Science Applications International
PRODUCTION_SYSTEM: GIS/MAGIC
COMPRESSION: UNDEFINED
STANDARD_VERSION: 1996 12
METADATA_DATE: 1997 7 16
DATA_FILE_SIZE: 42674850
BYTE_COUNT: 5535
