FILENAME: O4811445.NES.48456.tif
QUADRANGLE_NAME: RHODES
QUADRANT: NE
WEST_LONGITUDE: -114 26 15.00000
EAST_LONGITUDE: -114 22 30.00000
NORTH_LATITUDE: 48 22 30.00000
SOUTH_LATITUDE: 48 18 45.00000
PRODUCTION_DATE: 1994 10 6
RASTER_ORDER: LEFT_RIGHT/TOP_BOTTOM
BAND_ORGANIZATION: SINGLE FILE
BAND_CONTENT: BLACK&WHITE
BAND_CONTENT: UNDEFINED
BAND_CONTENT: UNDEFINED
BITS_PER_PIXEL: 8
SAMPLES_AND_LINES: 5540 7712
HORIZONTAL_DATUM: NAD83
HORIZONTAL_COORDINATE_SYSTEM: UTM
COORDINATE_ZONE: 11
HORIZONTAL_UNITS: METERS
HORIZONTAL_RESOLUTION: 1.00000
SECONDARY_HORIZONTAL_DATUM: NAD27
XY_ORIGIN: 689381.00000 5361611.00000
SECONDARY_XY_ORIGIN: 689458.75500 5361398.56200
NATION: US
STATE: MT
NW_QUAD_CORNER_XY: 689754.20200 5361154.17800
NE_QUAD_CORNER_XY: 694381.97900 5361310.88600
SE_QUAD_CORNERY_XY: 694619.91700 5354364.69700
SW_QUAD_CORNER_XY: 689986.46900 5354207.94800
SECONDARY_NW_QUAD_XY: 689760.22000 5360935.32400
SECONDARY_NE_QUAD_XY: 694388.14400 5361092.03700
SECONDARY_SE_QUAD_XY: 694626.08200 5354145.85800
SECONDARY_SW_QUAD_XY: 689992.48700 5353989.10500
RMSE_XY: 1.70000
IMAGE_SOURCE: BLACK AND WHITE FILM
SOURCE_IMAGE_ID: NAPP 2640 148
SOURCE_IMAGE_DATE: 1990 7 1
SOURCE_DEM_DATE: 1994 10 6
AGENCY: WESTERN MAPPING CENTER (WMC)
PRODUCER: Science Applications International
PRODUCTION_SYSTEM: GIS/MAGIC
COMPRESSION: UNDEFINED
STANDARD_VERSION: 1996 12
METADATA_DATE: 1997 7 16
DATA_FILE_SIZE: 42730020
BYTE_COUNT: 5540
