FILENAME: O4811446.SWS.48319.tif
QUADRANGLE_NAME: ROSE CROSSING
QUADRANT: SW
WEST_LONGITUDE: -114 22 30.00000
EAST_LONGITUDE: -114 18 45.00000
NORTH_LATITUDE: 48 18 45.00000
SOUTH_LATITUDE: 48 15 0.00000
PRODUCTION_DATE: 1994 10 13
RASTER_ORDER: LEFT_RIGHT/TOP_BOTTOM
BAND_ORGANIZATION: SINGLE FILE
BAND_CONTENT: BLACK&WHITE
BAND_CONTENT: UNDEFINED
BAND_CONTENT: UNDEFINED
BITS_PER_PIXEL: 8
SAMPLES_AND_LINES: 5551 7717
HORIZONTAL_DATUM: NAD83
HORIZONTAL_COORDINATE_SYSTEM: UTM
COORDINATE_ZONE: 11
HORIZONTAL_UNITS: METERS
HORIZONTAL_RESOLUTION: 1.00000
SECONDARY_HORIZONTAL_DATUM: NAD27
XY_ORIGIN: 694247.00000 5354826.00000
SECONDARY_XY_ORIGIN: 694324.80000 5354613.71800
NATION: US
STATE: MT
NW_QUAD_CORNER_XY: 694619.91700 5354364.69700
NE_QUAD_CORNER_XY: 699253.34000 5354525.22600
SE_QUAD_CORNERY_XY: 699496.71100 5347579.13700
SW_QUAD_CORNER_XY: 694857.62200 5347418.56700
SECONDARY_NW_QUAD_XY: 694626.08200 5354145.85800
SECONDARY_NE_QUAD_XY: 699259.65100 5354306.39300
SECONDARY_SE_QUAD_XY: 699503.02200 5347360.31400
SECONDARY_SW_QUAD_XY: 694863.78700 5347199.73900
RMSE_XY: 1.30000
IMAGE_SOURCE: BLACK AND WHITE FILM
SOURCE_IMAGE_ID: NAPP 2640 210
SOURCE_IMAGE_DATE: 1990 7 1
SOURCE_DEM_DATE: 1994 10 13
AGENCY: WESTERN MAPPING CENTER (WMC)
PRODUCER: Science Applications International
PRODUCTION_SYSTEM: GIS/MAGIC
COMPRESSION: UNDEFINED
STANDARD_VERSION: 1996 12
METADATA_DATE: 1997 7 16
DATA_FILE_SIZE: 42842618
BYTE_COUNT: 5551
