FILENAME: O4811446.SES.48318.tif
QUADRANGLE_NAME: ROSE CROSSING
QUADRANT: SE
WEST_LONGITUDE: -114 18 45.00000
EAST_LONGITUDE: -114 15 0.00000
NORTH_LATITUDE: 48 18 45.00000
SOUTH_LATITUDE: 48 15 0.00000
PRODUCTION_DATE: 1994 10 13
RASTER_ORDER: LEFT_RIGHT/TOP_BOTTOM
BAND_ORGANIZATION: SINGLE FILE
BAND_CONTENT: BLACK&WHITE
BAND_CONTENT: UNDEFINED
BAND_CONTENT: UNDEFINED
BITS_PER_PIXEL: 8
SAMPLES_AND_LINES: 5557 7720
HORIZONTAL_DATUM: NAD83
HORIZONTAL_COORDINATE_SYSTEM: UTM
COORDINATE_ZONE: 11
HORIZONTAL_UNITS: METERS
HORIZONTAL_RESOLUTION: 1.00000
SECONDARY_HORIZONTAL_DATUM: NAD27
XY_ORIGIN: 698880.00000 5354990.00000
SECONDARY_XY_ORIGIN: 698957.74400 5354777.76700
NATION: US
STATE: MT
NW_QUAD_CORNER_XY: 699253.34000 5354525.22600
NE_QUAD_CORNER_XY: 703886.73400 5354689.53800
SE_QUAD_CORNERY_XY: 704135.77300 5347743.49000
SW_QUAD_CORNER_XY: 699496.71100 5347579.13700
SECONDARY_NW_QUAD_XY: 699259.65100 5354306.39300
SECONDARY_NE_QUAD_XY: 703893.19300 5354470.70900
SECONDARY_SE_QUAD_XY: 704142.23100 5347524.67200
SECONDARY_SW_QUAD_XY: 699503.02200 5347360.31400
RMSE_XY: 1.50000
IMAGE_SOURCE: BLACK AND WHITE FILM
SOURCE_IMAGE_ID: NAPP 2640 221
SOURCE_IMAGE_DATE: 1990 7 1
SOURCE_DEM_DATE: 1994 10 13
AGENCY: WESTERN MAPPING CENTER (WMC)
PRODUCER: Science Applications International
PRODUCTION_SYSTEM: GIS/MAGIC
COMPRESSION: UNDEFINED
STANDARD_VERSION: 1996 12
METADATA_DATE: 1997 7 16
DATA_FILE_SIZE: 42905597
BYTE_COUNT: 5557
