FILENAME: O4811446.NWS.48317.tif
QUADRANGLE_NAME: ROSE CROSSING
QUADRANT: NW
WEST_LONGITUDE: -114 22 30.00000
EAST_LONGITUDE: -114 18 45.00000
NORTH_LATITUDE: 48 22 30.00000
SOUTH_LATITUDE: 48 18 45.00000
PRODUCTION_DATE: 1994 10 13
RASTER_ORDER: LEFT_RIGHT/TOP_BOTTOM
BAND_ORGANIZATION: SINGLE FILE
BAND_CONTENT: BLACK&WHITE
BAND_CONTENT: UNDEFINED
BAND_CONTENT: UNDEFINED
BITS_PER_PIXEL: 8
SAMPLES_AND_LINES: 5546 7716
HORIZONTAL_DATUM: NAD83
HORIZONTAL_COORDINATE_SYSTEM: UTM
COORDINATE_ZONE: 11
HORIZONTAL_UNITS: METERS
HORIZONTAL_RESOLUTION: 1.00000
SECONDARY_HORIZONTAL_DATUM: NAD27
XY_ORIGIN: 694009.00000 5361772.00000
SECONDARY_XY_ORIGIN: 694086.71500 5361559.60400
NATION: US
STATE: MT
NW_QUAD_CORNER_XY: 694381.97900 5361310.88600
NE_QUAD_CORNER_XY: 699009.72900 5361471.37500
SE_QUAD_CORNERY_XY: 699253.34000 5354525.22600
SW_QUAD_CORNER_XY: 694619.91700 5354364.69700
SECONDARY_NW_QUAD_XY: 694388.14400 5361092.03700
SECONDARY_NE_QUAD_XY: 699016.04100 5361252.53100
SECONDARY_SE_QUAD_XY: 699259.65100 5354306.39300
SECONDARY_SW_QUAD_XY: 694626.08200 5354145.85800
RMSE_XY: 1.90000
IMAGE_SOURCE: BLACK AND WHITE FILM
SOURCE_IMAGE_ID: NAPP 2640 212
SOURCE_IMAGE_DATE: 1990 7 1
SOURCE_DEM_DATE: 1994 10 13
AGENCY: WESTERN MAPPING CENTER (WMC)
PRODUCER: Science Applications International
PRODUCTION_SYSTEM: GIS/MAGIC
COMPRESSION: UNDEFINED
STANDARD_VERSION: 1996 12
METADATA_DATE: 1997 7 16
DATA_FILE_SIZE: 42798482
BYTE_COUNT: 5546
