FILENAME: O4811447.SWS.48195.tif
QUADRANGLE_NAME: COLUMBIA FALLS SOUTH
QUADRANT: SW
WEST_LONGITUDE: -114 15 0.00000
EAST_LONGITUDE: -114 11 15.00000
NORTH_LATITUDE: 48 18 45.00000
SOUTH_LATITUDE: 48 15 0.00000
PRODUCTION_DATE: 1994 10 13
RASTER_ORDER: LEFT_RIGHT/TOP_BOTTOM
BAND_ORGANIZATION: SINGLE FILE
BAND_CONTENT: BLACK&WHITE
BAND_CONTENT: UNDEFINED
BAND_CONTENT: UNDEFINED
BITS_PER_PIXEL: 8
SAMPLES_AND_LINES: 5562 7724
HORIZONTAL_DATUM: NAD83
HORIZONTAL_COORDINATE_SYSTEM: UTM
COORDINATE_ZONE: 11
HORIZONTAL_UNITS: METERS
HORIZONTAL_RESOLUTION: 1.00000
SECONDARY_HORIZONTAL_DATUM: NAD27
XY_ORIGIN: 703514.00000 5355158.00000
SECONDARY_XY_ORIGIN: 703591.69000 5354945.81900
NATION: US
STATE: MT
NW_QUAD_CORNER_XY: 703886.73400 5354689.53800
NE_QUAD_CORNER_XY: 708520.10100 5354857.63200
SE_QUAD_CORNERY_XY: 708774.80700 5347911.62500
SW_QUAD_CORNER_XY: 704135.77300 5347743.49000
SECONDARY_NW_QUAD_XY: 703893.19300 5354470.70900
SECONDARY_NE_QUAD_XY: 708526.70700 5354638.80800
SECONDARY_SE_QUAD_XY: 708781.41200 5347692.81300
SECONDARY_SW_QUAD_XY: 704142.23100 5347524.67200
RMSE_XY: 0.80000
IMAGE_SOURCE: BLACK AND WHITE FILM
SOURCE_IMAGE_ID: NAPP 2641 034
SOURCE_IMAGE_DATE: 1990 7 1
SOURCE_DEM_DATE: 1994 10 13
AGENCY: WESTERN MAPPING CENTER (WMC)
PRODUCER: Science Applications International
PRODUCTION_SYSTEM: GIS/MAGIC
COMPRESSION: UNDEFINED
STANDARD_VERSION: 1996 12
METADATA_DATE: 1997 7 27
DATA_FILE_SIZE: 42966450
BYTE_COUNT: 5562
