FILENAME: O4811448.SWS.48070.tif
QUADRANGLE_NAME: DORIS MOUNTAIN
QUADRANT: SW
WEST_LONGITUDE: -114 7 30.00000
EAST_LONGITUDE: -114 3 45.00000
NORTH_LATITUDE: 48 18 45.00000
SOUTH_LATITUDE: 48 15 0.00000
PRODUCTION_DATE: 1994 11 4
RASTER_ORDER: LEFT_RIGHT/TOP_BOTTOM
BAND_ORGANIZATION: SINGLE FILE
BAND_CONTENT: BLACK&WHITE
BAND_CONTENT: UNDEFINED
BAND_CONTENT: UNDEFINED
BITS_PER_PIXEL: 8
SAMPLES_AND_LINES: 5573 7732
HORIZONTAL_DATUM: NAD83
HORIZONTAL_COORDINATE_SYSTEM: UTM
COORDINATE_ZONE: 11
HORIZONTAL_UNITS: METERS
HORIZONTAL_RESOLUTION: 1.00000
SECONDARY_HORIZONTAL_DATUM: NAD27
XY_ORIGIN: 712781.00000 5355506.00000
SECONDARY_XY_ORIGIN: 712858.45300 5355293.90700
NATION: US
STATE: MT
NW_QUAD_CORNER_XY: 713153.43900 5355029.50800
NE_QUAD_CORNER_XY: 717786.74800 5355205.16700
SE_QUAD_CORNERY_XY: 718052.79100 5348259.24700
SW_QUAD_CORNER_XY: 713413.81300 5348083.54400
SECONDARY_NW_QUAD_XY: 713160.19200 5354810.69000
SECONDARY_NE_QUAD_XY: 717793.64700 5354986.35500
SECONDARY_SE_QUAD_XY: 718059.68900 5348040.44600
SECONDARY_SW_QUAD_XY: 713420.56500 5347864.73800
RMSE_XY: 2.70000
IMAGE_SOURCE: BLACK AND WHITE FILM
SOURCE_IMAGE_ID: NAPP 2662 022
SOURCE_IMAGE_DATE: 1991 8 30
SOURCE_DEM_DATE: 1994 11 4
AGENCY: WESTERN MAPPING CENTER (WMC)
PRODUCER: Science Applications International
PRODUCTION_SYSTEM: GIS/MAGIC
COMPRESSION: UNDEFINED
STANDARD_VERSION: 1996 12
METADATA_DATE: 1997 7 27
DATA_FILE_SIZE: 43096009
BYTE_COUNT: 5573
