FILENAME: O4811448.NWS.48068.tif
QUADRANGLE_NAME: DORIS MOUNTAIN
QUADRANT: NW
WEST_LONGITUDE: -114 7 30.00000
EAST_LONGITUDE: -114 3 45.00000
NORTH_LATITUDE: 48 22 30.00000
SOUTH_LATITUDE: 48 18 45.00000
PRODUCTION_DATE: 1995 5 2
RASTER_ORDER: LEFT_RIGHT/TOP_BOTTOM
BAND_ORGANIZATION: SINGLE FILE
BAND_CONTENT: BLACK&WHITE
BAND_CONTENT: UNDEFINED
BAND_CONTENT: UNDEFINED
BITS_PER_PIXEL: 8
SAMPLES_AND_LINES: 5567 7732
HORIZONTAL_DATUM: NAD83
HORIZONTAL_COORDINATE_SYSTEM: UTM
COORDINATE_ZONE: 11
HORIZONTAL_UNITS: METERS
HORIZONTAL_RESOLUTION: 1.00000
SECONDARY_HORIZONTAL_DATUM: NAD27
XY_ORIGIN: 712521.00000 5362452.00000
SECONDARY_XY_ORIGIN: 712598.42500 5362239.78400
NATION: US
STATE: MT
NW_QUAD_CORNER_XY: 712892.81000 5361975.52800
NE_QUAD_CORNER_XY: 717520.44500 5362151.14200
SE_QUAD_CORNERY_XY: 717786.74800 5355205.16700
SW_QUAD_CORNER_XY: 713153.43900 5355029.50800
SECONDARY_NW_QUAD_XY: 712899.56300 5361756.70000
SECONDARY_NE_QUAD_XY: 717527.34500 5361932.32000
SECONDARY_SE_QUAD_XY: 717793.64700 5354986.35500
SECONDARY_SW_QUAD_XY: 713160.19200 5354810.69000
RMSE_XY: 2.30000
IMAGE_SOURCE: BLACK AND WHITE FILM
SOURCE_IMAGE_ID: NAPP 2662 24
SOURCE_IMAGE_DATE: 1991 8 30
SOURCE_IMAGE_ID: NAPP 2662 2662
SOURCE_IMAGE_DATE: 1991 8 30
SOURCE_IMAGE_ID: NAPP 2662 25
SOURCE_IMAGE_DATE: 1991 8 30
SOURCE_DEM_DATE: 1995 5 2
AGENCY: WESTERN MAPPING CENTER (WMC)
PRODUCER: Science Applications International
PRODUCTION_SYSTEM: GIS/MAGIC
COMPRESSION: UNDEFINED
STANDARD_VERSION: 1996 12
METADATA_DATE: 1997 7 25
DATA_FILE_SIZE: 43049611
BYTE_COUNT: 5567
