FILENAME: O4811448.NES.48067.tif
QUADRANGLE_NAME: DORIS MOUNTAIN
QUADRANT: NE
WEST_LONGITUDE: -114 3 45.00000
EAST_LONGITUDE: -114 0 0.00000
NORTH_LATITUDE: 48 22 30.00000
SOUTH_LATITUDE: 48 18 45.00000
PRODUCTION_DATE: 1994 11 4
RASTER_ORDER: LEFT_RIGHT/TOP_BOTTOM
BAND_ORGANIZATION: SINGLE FILE
BAND_CONTENT: BLACK&WHITE
BAND_CONTENT: UNDEFINED
BAND_CONTENT: UNDEFINED
BITS_PER_PIXEL: 8
SAMPLES_AND_LINES: 5573 7735
HORIZONTAL_DATUM: NAD83
HORIZONTAL_COORDINATE_SYSTEM: UTM
COORDINATE_ZONE: 11
HORIZONTAL_UNITS: METERS
HORIZONTAL_RESOLUTION: 1.00000
SECONDARY_HORIZONTAL_DATUM: NAD27
XY_ORIGIN: 717149.00000 5362631.00000
SECONDARY_XY_ORIGIN: 717226.31900 5362418.83000
NATION: US
STATE: MT
NW_QUAD_CORNER_XY: 717520.44500 5362151.14200
NE_QUAD_CORNER_XY: 722148.05000 5362330.53800
SE_QUAD_CORNERY_XY: 722420.02800 5355384.60900
SW_QUAD_CORNER_XY: 717786.74800 5355205.16700
SECONDARY_NW_QUAD_XY: 717527.34500 5361932.32000
SECONDARY_NE_QUAD_XY: 722155.09600 5362111.72200
SECONDARY_SE_QUAD_XY: 722427.07300 5355165.80200
SECONDARY_SW_QUAD_XY: 717793.64700 5354986.35500
RMSE_XY: 1.10000
IMAGE_SOURCE: BLACK AND WHITE FILM
SOURCE_IMAGE_ID: NAPP 2661 030
SOURCE_IMAGE_DATE: 1991 8 26
SOURCE_DEM_DATE: 1994 11 4
AGENCY: WESTERN MAPPING CENTER (WMC)
PRODUCER: Science Applications International
PRODUCTION_SYSTEM: GIS/MAGIC
COMPRESSION: UNDEFINED
STANDARD_VERSION: 1996 12
METADATA_DATE: 1997 7 27
DATA_FILE_SIZE: 43112728
BYTE_COUNT: 5573
