FILENAME: O4811449.SWS.49167.tif
QUADRANGLE_NAME: LYNCH LAKE
QUADRANT: SW
WEST_LONGITUDE: -115 0 0.00000
EAST_LONGITUDE: -114 56 15.00000
NORTH_LATITUDE: 48 11 15.00000
SOUTH_LATITUDE: 48 7 30.00000
PRODUCTION_DATE: 1994 10 13
RASTER_ORDER: LEFT_RIGHT/TOP_BOTTOM
BAND_ORGANIZATION: SINGLE FILE
BAND_CONTENT: BLACK&WHITE
BAND_CONTENT: UNDEFINED
BAND_CONTENT: UNDEFINED
BITS_PER_PIXEL: 8
SAMPLES_AND_LINES: 5507 7680
HORIZONTAL_DATUM: NAD83
HORIZONTAL_COORDINATE_SYSTEM: UTM
COORDINATE_ZONE: 11
HORIZONTAL_UNITS: METERS
HORIZONTAL_RESOLUTION: 1.00000
SECONDARY_HORIZONTAL_DATUM: NAD27
XY_ORIGIN: 648272.00000 5339498.00000
SECONDARY_XY_ORIGIN: 648349.49800 5339285.93700
NATION: US
STATE: MT
NW_QUAD_CORNER_XY: 648646.28600 5339074.44600
NE_QUAD_CORNER_XY: 653291.26500 5339197.23400
SE_QUAD_CORNERY_XY: 653477.62400 5332250.91900
SW_QUAD_CORNER_XY: 648826.99400 5332128.10200
SECONDARY_NW_QUAD_XY: 648650.98200 5338855.58600
SECONDARY_NE_QUAD_XY: 653296.10800 5338978.37700
SECONDARY_SE_QUAD_XY: 653482.46700 5332032.07500
SECONDARY_SW_QUAD_XY: 648831.69000 5331909.25400
RMSE_XY: 1.30000
IMAGE_SOURCE: BLACK AND WHITE FILM
SOURCE_IMAGE_ID: NAPP 2642 038
SOURCE_IMAGE_DATE: 1990 7 17
SOURCE_DEM_DATE: 1994 10 13
AGENCY: WESTERN MAPPING CENTER (WMC)
PRODUCER: Science Applications International
PRODUCTION_SYSTEM: GIS/MAGIC
COMPRESSION: UNDEFINED
STANDARD_VERSION: 1996 12
METADATA_DATE: 1997 7 15
DATA_FILE_SIZE: 42299267
BYTE_COUNT: 5507
