FILENAME: O4811449.SES.49166.tif
QUADRANGLE_NAME: LYNCH LAKE
QUADRANT: SE
WEST_LONGITUDE: -114 56 15.00000
EAST_LONGITUDE: -114 52 30.00000
NORTH_LATITUDE: 48 11 15.00000
SOUTH_LATITUDE: 48 7 30.00000
PRODUCTION_DATE: 1994 10 13
RASTER_ORDER: LEFT_RIGHT/TOP_BOTTOM
BAND_ORGANIZATION: SINGLE FILE
BAND_CONTENT: BLACK&WHITE
BAND_CONTENT: UNDEFINED
BAND_CONTENT: UNDEFINED
BITS_PER_PIXEL: 8
SAMPLES_AND_LINES: 5513 7683
HORIZONTAL_DATUM: NAD83
HORIZONTAL_COORDINATE_SYSTEM: UTM
COORDINATE_ZONE: 11
HORIZONTAL_UNITS: METERS
HORIZONTAL_RESOLUTION: 1.00000
SECONDARY_HORIZONTAL_DATUM: NAD27
XY_ORIGIN: 652917.00000 5339624.00000
SECONDARY_XY_ORIGIN: 652994.45900 5339411.92300
NATION: US
STATE: MT
NW_QUAD_CORNER_XY: 653291.26500 5339197.23400
NE_QUAD_CORNER_XY: 657936.22300 5339323.80300
SE_QUAD_CORNERY_XY: 658128.23400 5332377.51800
SW_QUAD_CORNER_XY: 653477.62400 5332250.91900
SECONDARY_NW_QUAD_XY: 653296.10800 5338978.37700
SECONDARY_NE_QUAD_XY: 657941.21300 5339104.95000
SECONDARY_SE_QUAD_XY: 658133.22400 5332158.67900
SECONDARY_SW_QUAD_XY: 653482.46700 5332032.07500
RMSE_XY: 0.80000
IMAGE_SOURCE: BLACK AND WHITE FILM
SOURCE_IMAGE_ID: NAPP 2644 107
SOURCE_IMAGE_DATE: 1990 8 6
SOURCE_DEM_DATE: 1994 10 13
AGENCY: WESTERN MAPPING CENTER (WMC)
PRODUCER: Science Applications International
PRODUCTION_SYSTEM: GIS/MAGIC
COMPRESSION: UNDEFINED
STANDARD_VERSION: 1996 12
METADATA_DATE: 1997 7 15
DATA_FILE_SIZE: 42361892
BYTE_COUNT: 5513
