FILENAME: O4811449.NWS.49165.tif
QUADRANGLE_NAME: LYNCH LAKE
QUADRANT: NW
WEST_LONGITUDE: -115 0 0.00000
EAST_LONGITUDE: -114 56 15.00000
NORTH_LATITUDE: 48 15 0.00000
SOUTH_LATITUDE: 48 11 15.00000
PRODUCTION_DATE: 1994 10 13
RASTER_ORDER: LEFT_RIGHT/TOP_BOTTOM
BAND_ORGANIZATION: SINGLE FILE
BAND_CONTENT: BLACK&WHITE
BAND_CONTENT: UNDEFINED
BAND_CONTENT: UNDEFINED
BITS_PER_PIXEL: 8
SAMPLES_AND_LINES: 5502 7679
HORIZONTAL_DATUM: NAD83
HORIZONTAL_COORDINATE_SYSTEM: UTM
COORDINATE_ZONE: 11
HORIZONTAL_UNITS: METERS
HORIZONTAL_RESOLUTION: 1.00000
SECONDARY_HORIZONTAL_DATUM: NAD27
XY_ORIGIN: 648091.00000 5346444.00000
SECONDARY_XY_ORIGIN: 648168.47700 5346231.60200
NATION: US
STATE: MT
NW_QUAD_CORNER_XY: 648465.40000 5346020.85700
NE_QUAD_CORNER_XY: 653104.72200 5346143.61500
SE_QUAD_CORNERY_XY: 653291.26500 5339197.23400
SW_QUAD_CORNER_XY: 648646.28600 5339074.44600
SECONDARY_NW_QUAD_XY: 648470.09600 5345801.98500
SECONDARY_NE_QUAD_XY: 653109.56500 5345924.74700
SECONDARY_SE_QUAD_XY: 653296.10800 5338978.37700
SECONDARY_SW_QUAD_XY: 648650.98200 5338855.58600
RMSE_XY: 1.40000
IMAGE_SOURCE: BLACK AND WHITE FILM
SOURCE_IMAGE_ID: NAPP 2642 040
SOURCE_IMAGE_DATE: 1990 7 17
SOURCE_DEM_DATE: 1994 10 13
AGENCY: WESTERN MAPPING CENTER (WMC)
PRODUCER: Science Applications International
PRODUCTION_SYSTEM: GIS/MAGIC
COMPRESSION: UNDEFINED
STANDARD_VERSION: 1996 12
METADATA_DATE: 1997 7 15
DATA_FILE_SIZE: 42255360
BYTE_COUNT: 5502
