FILENAME: O4811450.SWS.49030.tif
QUADRANGLE_NAME: DAHL LAKE
QUADRANT: SW
WEST_LONGITUDE: -114 52 30.00000
EAST_LONGITUDE: -114 48 45.00000
NORTH_LATITUDE: 48 11 15.00000
SOUTH_LATITUDE: 48 7 30.00000
PRODUCTION_DATE: 1994 10 13
RASTER_ORDER: LEFT_RIGHT/TOP_BOTTOM
BAND_ORGANIZATION: SINGLE FILE
BAND_CONTENT: BLACK&WHITE
BAND_CONTENT: UNDEFINED
BAND_CONTENT: UNDEFINED
BITS_PER_PIXEL: 8
SAMPLES_AND_LINES: 5518 7687
HORIZONTAL_DATUM: NAD83
HORIZONTAL_COORDINATE_SYSTEM: UTM
COORDINATE_ZONE: 11
HORIZONTAL_UNITS: METERS
HORIZONTAL_RESOLUTION: 1.00000
SECONDARY_HORIZONTAL_DATUM: NAD27
XY_ORIGIN: 657562.00000 5339755.00000
SECONDARY_XY_ORIGIN: 657639.42000 5339542.90800
NATION: US
STATE: MT
NW_QUAD_CORNER_XY: 657936.22300 5339323.80300
NE_QUAD_CORNER_XY: 662581.16100 5339454.15300
SE_QUAD_CORNERY_XY: 662778.82400 5332507.90000
SW_QUAD_CORNER_XY: 658128.23400 5332377.51800
SECONDARY_NW_QUAD_XY: 657941.21300 5339104.95000
SECONDARY_NE_QUAD_XY: 662586.29800 5339235.30500
SECONDARY_SE_QUAD_XY: 662783.96000 5332289.06400
SECONDARY_SW_QUAD_XY: 658133.22400 5332158.67900
RMSE_XY: 4.70000
IMAGE_SOURCE: BLACK AND WHITE FILM
SOURCE_IMAGE_ID: NAPP 2644 050
SOURCE_IMAGE_DATE: 1990 8 6
SOURCE_DEM_DATE: 1994 10 13
AGENCY: WESTERN MAPPING CENTER (WMC)
PRODUCER: Science Applications International
PRODUCTION_SYSTEM: GIS/MAGIC
COMPRESSION: UNDEFINED
STANDARD_VERSION: 1996 12
METADATA_DATE: 1997 7 15
DATA_FILE_SIZE: 42422384
BYTE_COUNT: 5518
