FILENAME: O4811450.SES.49029.tif
QUADRANGLE_NAME: DAHL LAKE
QUADRANT: SE
WEST_LONGITUDE: -114 48 45.00000
EAST_LONGITUDE: -114 45 0.00000
NORTH_LATITUDE: 48 11 15.00000
SOUTH_LATITUDE: 48 7 30.00000
PRODUCTION_DATE: 1994 10 13
RASTER_ORDER: LEFT_RIGHT/TOP_BOTTOM
BAND_ORGANIZATION: SINGLE FILE
BAND_CONTENT: BLACK&WHITE
BAND_CONTENT: UNDEFINED
BAND_CONTENT: UNDEFINED
BITS_PER_PIXEL: 8
SAMPLES_AND_LINES: 5524 7691
HORIZONTAL_DATUM: NAD83
HORIZONTAL_COORDINATE_SYSTEM: UTM
COORDINATE_ZONE: 11
HORIZONTAL_UNITS: METERS
HORIZONTAL_RESOLUTION: 1.00000
SECONDARY_HORIZONTAL_DATUM: NAD27
XY_ORIGIN: 662207.00000 5339889.00000
SECONDARY_XY_ORIGIN: 662284.38100 5339676.89400
NATION: US
STATE: MT
NW_QUAD_CORNER_XY: 662581.16100 5339454.15300
NE_QUAD_CORNER_XY: 667226.07800 5339588.28400
SE_QUAD_CORNERY_XY: 667429.39300 5332642.06300
SW_QUAD_CORNER_XY: 662778.82400 5332507.90000
SECONDARY_NW_QUAD_XY: 662586.29800 5339235.30500
SECONDARY_NE_QUAD_XY: 667231.36100 5339369.44000
SECONDARY_SE_QUAD_XY: 667434.67600 5332423.23200
SECONDARY_SW_QUAD_XY: 662783.96000 5332289.06400
RMSE_XY: 4.80000
IMAGE_SOURCE: BLACK AND WHITE FILM
SOURCE_IMAGE_ID: NAPP 2642 069
SOURCE_IMAGE_DATE: 1990 7 17
SOURCE_DEM_DATE: 1994 10 13
AGENCY: WESTERN MAPPING CENTER (WMC)
PRODUCER: Science Applications International
PRODUCTION_SYSTEM: GIS/MAGIC
COMPRESSION: UNDEFINED
STANDARD_VERSION: 1996 12
METADATA_DATE: 1997 7 15
DATA_FILE_SIZE: 42490608
BYTE_COUNT: 5524
