FILENAME: O4811451.NWS.48845.tif
QUADRANGLE_NAME: PLEASANT VALLEY MOUNTAIN
QUADRANT: NW
WEST_LONGITUDE: -114 45 0.00000
EAST_LONGITUDE: -114 41 15.00000
NORTH_LATITUDE: 48 15 0.00000
SOUTH_LATITUDE: 48 11 15.00000
PRODUCTION_DATE: 1994 10 13
RASTER_ORDER: LEFT_RIGHT/TOP_BOTTOM
BAND_ORGANIZATION: SINGLE FILE
BAND_CONTENT: BLACK&WHITE
BAND_CONTENT: UNDEFINED
BAND_CONTENT: UNDEFINED
BITS_PER_PIXEL: 8
SAMPLES_AND_LINES: 5523 7694
HORIZONTAL_DATUM: NAD83
HORIZONTAL_COORDINATE_SYSTEM: UTM
COORDINATE_ZONE: 11
HORIZONTAL_UNITS: METERS
HORIZONTAL_RESOLUTION: 1.00000
SECONDARY_HORIZONTAL_DATUM: NAD27
XY_ORIGIN: 666649.00000 5346973.00000
SECONDARY_XY_ORIGIN: 666726.45700 5346760.48800
NATION: US
STATE: MT
NW_QUAD_CORNER_XY: 667022.56200 5346534.57000
NE_QUAD_CORNER_XY: 671661.79900 5346672.44900
SE_QUAD_CORNERY_XY: 671870.97300 5339726.19800
SW_QUAD_CORNER_XY: 667226.07800 5339588.28400
SECONDARY_NW_QUAD_XY: 667027.84600 5346315.71400
SECONDARY_NE_QUAD_XY: 671667.22900 5346453.59800
SECONDARY_SE_QUAD_XY: 671876.40300 5339507.35800
SECONDARY_SW_QUAD_XY: 667231.36100 5339369.44000
RMSE_XY: 1.60000
IMAGE_SOURCE: BLACK AND WHITE FILM
SOURCE_IMAGE_ID: NAPP 2648 027
SOURCE_IMAGE_DATE: 1990 8 16
SOURCE_DEM_DATE: 1994 10 13
AGENCY: WESTERN MAPPING CENTER (WMC)
PRODUCER: Science Applications International
PRODUCTION_SYSTEM: GIS/MAGIC
COMPRESSION: UNDEFINED
STANDARD_VERSION: 1996 12
METADATA_DATE: 1997 7 15
DATA_FILE_SIZE: 42499485
BYTE_COUNT: 5523
