FILENAME: O4811451.NES.48844.tif
QUADRANGLE_NAME: PLEASANT VALLEY MOUNTAIN
QUADRANT: NE
WEST_LONGITUDE: -114 41 15.00000
EAST_LONGITUDE: -114 37 30.00000
NORTH_LATITUDE: 48 15 0.00000
SOUTH_LATITUDE: 48 11 15.00000
PRODUCTION_DATE: 1994 10 13
RASTER_ORDER: LEFT_RIGHT/TOP_BOTTOM
BAND_ORGANIZATION: SINGLE FILE
BAND_CONTENT: BLACK&WHITE
BAND_CONTENT: UNDEFINED
BAND_CONTENT: UNDEFINED
BITS_PER_PIXEL: 8
SAMPLES_AND_LINES: 5529 7698
HORIZONTAL_DATUM: NAD83
HORIZONTAL_COORDINATE_SYSTEM: UTM
COORDINATE_ZONE: 11
HORIZONTAL_UNITS: METERS
HORIZONTAL_RESOLUTION: 1.00000
SECONDARY_HORIZONTAL_DATUM: NAD27
XY_ORIGIN: 671288.00000 5347115.00000
SECONDARY_XY_ORIGIN: 671365.59900 5346902.54300
NATION: US
STATE: MT
NW_QUAD_CORNER_XY: 671661.79900 5346672.44900
NE_QUAD_CORNER_XY: 676301.01200 5346814.11000
SE_QUAD_CORNERY_XY: 676515.84500 5339867.89300
SW_QUAD_CORNER_XY: 671870.97300 5339726.19800
SECONDARY_NW_QUAD_XY: 671667.22900 5346453.59800
SECONDARY_NE_QUAD_XY: 676306.58900 5346595.26300
SECONDARY_SE_QUAD_XY: 676521.42100 5339649.05700
SECONDARY_SW_QUAD_XY: 671876.40300 5339507.35800
RMSE_XY: 1.70000
IMAGE_SOURCE: BLACK AND WHITE FILM
SOURCE_IMAGE_ID: NAPP 2663 010
SOURCE_IMAGE_DATE: 1991 9 4
SOURCE_DEM_DATE: 1994 10 13
AGENCY: WESTERN MAPPING CENTER (WMC)
PRODUCER: Science Applications International
PRODUCTION_SYSTEM: GIS/MAGIC
COMPRESSION: UNDEFINED
STANDARD_VERSION: 1996 12
METADATA_DATE: 1997 7 15
DATA_FILE_SIZE: 42567771
BYTE_COUNT: 5529
