FILENAME: O4811453.SES.48462.tif
QUADRANGLE_NAME: BLUE GRASS RIDGE
QUADRANT: SE
WEST_LONGITUDE: -114 26 15.00000
EAST_LONGITUDE: -114 22 30.00000
NORTH_LATITUDE: 48 11 15.00000
SOUTH_LATITUDE: 48 7 30.00000
PRODUCTION_DATE: 1994 10 6
RASTER_ORDER: LEFT_RIGHT/TOP_BOTTOM
BAND_ORGANIZATION: SINGLE FILE
BAND_CONTENT: BLACK&WHITE
BAND_CONTENT: UNDEFINED
BAND_CONTENT: UNDEFINED
BITS_PER_PIXEL: 8
SAMPLES_AND_LINES: 5557 7713
HORIZONTAL_DATUM: NAD83
HORIZONTAL_COORDINATE_SYSTEM: UTM
COORDINATE_ZONE: 11
HORIZONTAL_UNITS: METERS
HORIZONTAL_RESOLUTION: 1.00000
SECONDARY_HORIZONTAL_DATUM: NAD27
XY_ORIGIN: 690077.00000 5340773.00000
SECONDARY_XY_ORIGIN: 690154.86300 5340561.13400
NATION: US
STATE: MT
NW_QUAD_CORNER_XY: 690450.31900 5340315.67200
NE_QUAD_CORNER_XY: 695095.09400 5340472.49800
SE_QUAD_CORNERY_XY: 695332.33200 5333526.48900
SW_QUAD_CORNER_XY: 690681.90200 5333369.62500
SECONDARY_NW_QUAD_XY: 690456.33600 5340096.85100
SECONDARY_NE_QUAD_XY: 695101.25800 5340253.68200
SECONDARY_SE_QUAD_XY: 695338.49600 5333307.68500
SECONDARY_SW_QUAD_XY: 690687.91900 5333150.81700
RMSE_XY: 3.40000
IMAGE_SOURCE: BLACK AND WHITE FILM
SOURCE_IMAGE_ID: NAPP 2640 154
SOURCE_IMAGE_DATE: 1990 7 1
SOURCE_DEM_DATE: 1994 10 6
AGENCY: WESTERN MAPPING CENTER (WMC)
PRODUCER: Science Applications International
PRODUCTION_SYSTEM: GIS/MAGIC
COMPRESSION: UNDEFINED
STANDARD_VERSION: 1996 12
METADATA_DATE: 1997 6 19
DATA_FILE_SIZE: 42866698
BYTE_COUNT: 5557
