FILENAME: O4811453.NWS.48461.tif
QUADRANGLE_NAME: BLUE GRASS RIDGE
QUADRANT: NW
WEST_LONGITUDE: -114 30 0.00000
EAST_LONGITUDE: -114 26 15.00000
NORTH_LATITUDE: 48 15 0.00000
SOUTH_LATITUDE: 48 11 15.00000
PRODUCTION_DATE: 1994 10 6
RASTER_ORDER: LEFT_RIGHT/TOP_BOTTOM
BAND_ORGANIZATION: SINGLE FILE
BAND_CONTENT: BLACK&WHITE
BAND_CONTENT: UNDEFINED
BAND_CONTENT: UNDEFINED
BITS_PER_PIXEL: 8
SAMPLES_AND_LINES: 5546 7709
HORIZONTAL_DATUM: NAD83
HORIZONTAL_COORDINATE_SYSTEM: UTM
COORDINATE_ZONE: 11
HORIZONTAL_UNITS: METERS
HORIZONTAL_RESOLUTION: 1.00000
SECONDARY_HORIZONTAL_DATUM: NAD27
XY_ORIGIN: 685206.00000 5347562.00000
SECONDARY_XY_ORIGIN: 685284.03200 5347349.70600
NATION: US
STATE: MT
NW_QUAD_CORNER_XY: 685579.36700 5347108.77500
NE_QUAD_CORNER_XY: 690218.50700 5347261.78000
SE_QUAD_CORNERY_XY: 690450.31900 5340315.67200
SW_QUAD_CORNER_XY: 685805.51800 5340162.63000
SECONDARY_NW_QUAD_XY: 685585.23800 5346889.93700
SECONDARY_NE_QUAD_XY: 690224.52500 5347042.94700
SECONDARY_SE_QUAD_XY: 690456.33600 5340096.85100
SECONDARY_SW_QUAD_XY: 685811.38900 5339943.80400
RMSE_XY: 3.50000
IMAGE_SOURCE: BLACK AND WHITE FILM
SOURCE_IMAGE_ID: NAPP 2640 133
SOURCE_IMAGE_DATE: 1990 7 1
SOURCE_DEM_DATE: 1994 10 6
AGENCY: WESTERN MAPPING CENTER (WMC)
PRODUCER: Science Applications International
PRODUCTION_SYSTEM: GIS/MAGIC
COMPRESSION: UNDEFINED
STANDARD_VERSION: 1996 12
METADATA_DATE: 1997 6 19
DATA_FILE_SIZE: 42759660
BYTE_COUNT: 5546
